BEGIN:VCALENDAR
VERSION:2.0
PRODID:karlsunruh.org
METHOD:REQUEST
BEGIN:VEVENT
UID:e1f05071-1cf3-438b-9266-ce27c6c238dc
URL:https://karlsunruh.org/event/e1f05071-1cf3-438b-9266-ce27c6c238dc
SUMMARY:PARTY: Punkrock & Co. mit DJ Ketch
DTSTART:20260207T220000Z
CATEGORIES:Party\,Kultur
DESCRIPTION:Sa\, 07.02.2026\nPARTY: Punkrock & Co. mit DJ Ketch\nBeginn:
  23:00 Uhr\n\n\nPunkrock & Co. mit DJ Ketch - Aftershow-Party\n\nPunkrock
  und alles was Spaß macht! Vinyl only!
LOCATION:Alte Hackerei\, Alter Schlachthof 11a\, 76131 Karlsruhe
GEO:49.0055385;8.4291958
ORGANIZER:mailto:Alte Hackerei
END:VEVENT
END:VCALENDAR
