BEGIN:VCALENDAR
VERSION:2.0
PRODID:karlsunruh.org
METHOD:REQUEST
BEGIN:VEVENT
UID:e21c3f4c-8c27-471a-bcf5-92b77ce7d828
URL:https://karlsunruh.org/event/e21c3f4c-8c27-471a-bcf5-92b77ce7d828
SUMMARY:PARTY: Satan said Dance mit Lola Murphy & Lou Pine
DTSTART:20251213T210000Z
CATEGORIES:Party\,Kultur
DESCRIPTION:Sa\, 13.12.2025\nPARTY: Satan said Dance mit Lola Murphy & Lou
  Pine\nBeginn: 22:00 Uhr\n\n\nDas Lykoi Dj-Team (Lou Pine & Lola Murphy)
  gibt sich mal wieder ein Stelldichein hinter den Plattentellern und hat
  die Kisten zum Bersten voll mit Tanzbefehlen! Dabei loten sie gekonnt die
  Grenzen des Machbaren aus\, denn die oberste Prämisse lautet nach wie
  vor: Disko-Apokalypse rules!!! Wir oszillieren eskapistisch und manisch
  mit euch in die Macht der Nacht!\n\nUnterstützt werden wir dabei von
  Peaches/Le Tigre/Night in Athens/Fat Dog/Shame/Les savy fav/We hate you\,
  please die!/Boy Harsher/Marnie/Turbonegro/Echoberyl/VitalicRefused/Billy
  Idol/Ladytron/The Cure/Lola Young/Zanias/Lady Sovereign/Sylvan
  Paul/DITZ/Debbie Friday/Dina Summer/Kalipo/DAF/Prodigy/Anne Clark/Damon
  Jee/Salo/Automelodi/BIBIZA/Sam Quealy/La Femme/Perel/Terr/Getdown
  Services/Beastie Boys/Busta Rhymes/M.I.A/NNHMN/A Flock of Seagulls/Missy
  Elliott/Bronski Beat/Death from above 1979/Gang of four/Sprints/Slint und
  LCD Soundsystem.\n\nSo dance Go\, there's no Limit!
LOCATION:Alte Hackerei\, Alter Schlachthof 11a\, 76131 Karlsruhe
GEO:49.0055385;8.4291958
ORGANIZER:mailto:Alte Hackerei
END:VEVENT
END:VCALENDAR
