BEGIN:VCALENDAR
VERSION:2.0
PRODID:karlsunruh.org
METHOD:REQUEST
BEGIN:VEVENT
UID:e6823af8-a08a-4aa6-8129-e3bcab101a79
URL:https://karlsunruh.org/event/e6823af8-a08a-4aa6-8129-e3bcab101a79
SUMMARY:Queerer Weihnachtsabend
DTSTART:20251224T170000Z
DTEND:20251224T210000Z
CATEGORIES:Sonstiges\,Queerfeminismus
DESCRIPTION:Dieses Jahr möchten wir euch am 24. Dezember von 18 - 22 Uhr
  zu einem 🎄\nQueeren Weihnachtsabend 🎄 im Queeren Zentrum Karlsruhe
  einladen.\n\nJede Person die an diesem Tag eine Zuflucht braucht ist bei
  uns willkommen und\nkann dort mit anderen Menschen feiern.\n\nVor Ort
  wird ein Buffet geben\, 🎵 leise Musik\, 🎲 Brettspiele\, ein paar
  Bücher\nund leckeren Kakao.\n\nGerne darfst du auch eigene Spiele und
  Essen fürs Buffet mitbringen (bevorzugt\nvegan). Der Abend ist
  kostenfrei und Kleinigkeiten werden von uns gestellt.\nDie sonstige
  Getränketheke ist wie gewohnt zum Selbstkostenpreis offen.\n\nWir freuen
  uns über jede Person die wir begrüßen
  dürfen.\nhttps://queerkastle.de/veranstaltung/queerer-weihnachtsabend-2/
LOCATION:queerKAstle - Karlsruher Zentrum für queere Vielfalt\,
  Liebigstraße 10-12\, 76135 Karlsruhe
GEO:49.0041532;8.37001
ORGANIZER:mailto:queerKAstle
END:VEVENT
END:VCALENDAR
