BEGIN:VCALENDAR
VERSION:2.0
PRODID:karlsunruh.org
METHOD:REQUEST
BEGIN:VEVENT
UID:e8bd74ec-0e1e-4517-a7f4-b58840ff0e8d
URL:https://karlsunruh.org/event/e8bd74ec-0e1e-4517-a7f4-b58840ff0e8d
SUMMARY:PARTY: Rough Riot mit dem female DJ-Team La Rabiata
DTSTART:20260131T210000Z
CATEGORIES:Party\,Kultur
DESCRIPTION:Sa\, 31.01.2026\nPARTY: Rough Riot mit dem female DJ-Team La
  Rabiata\nBeginn: 22:00 Uhr\n\n\nDie Girls vom La Rabiata DJ-Team
  versorgen euch mit dem besten aus den 80ern über Wave bis hin zu Punk\,
  Hardcore und Metal!\n\nVielleicht kennt ihr die DJs bereits von ihren
  Event "Sabotage" aus dem Substage\, also kommt vorbei und lasst euch
  begeistern.
LOCATION:Alte Hackerei\, Alter Schlachthof 11a\, 76131 Karlsruhe
GEO:49.0055385;8.4291958
ORGANIZER:mailto:Alte Hackerei
END:VEVENT
END:VCALENDAR
