BEGIN:VCALENDAR
VERSION:2.0
PRODID:karlsunruh.org
METHOD:REQUEST
BEGIN:VEVENT
UID:ee30cc57-cfe4-4c35-b4cb-b03a32c1d321
URL:https://karlsunruh.org/event/ee30cc57-cfe4-4c35-b4cb-b03a32c1d321
SUMMARY:MAKE MOMS FOOD
DTSTART:20260103T163000Z
DTEND:20260103T210000Z
CATEGORIES:Sonstiges\,Sonstiges
DESCRIPTION:Zu Beginn des Jahres laden wir euch herzlich zu einer neuen
  Ausgabe des Klassikers MAKE MOMS FOOD ein. Dieses Mal wollen wir eure
  Gaumen mit dem #postost Gericht борщ (Borschtsch) verführen. Kommt
  vorbei und lasst uns bei einem wohltuend warmen Teller der Januarkälte
  entfliehen und die gegenseitige Gesellschaft genießen.\n\nAt the
  beginning of the year\, we cordially invite you to a new edition of the
  classic MAKE MOMS FOOD. This time\, we want to tempt your taste buds with
  the #postost dish borscht. Come by and let's escape the January cold with
  a comforting warm plate and enjoy each other's company.
LOCATION:Cola Taxi Okay\, Kronenstraße 25\, 76131 Karlsruhe
GEO:49.008172;8.4095862
ORGANIZER:mailto:Cola Taxi Okay
END:VEVENT
END:VCALENDAR
