BEGIN:VCALENDAR
VERSION:2.0
PRODID:karlsunruh.org
METHOD:REQUEST
BEGIN:VEVENT
UID:f0e3098e-4052-447f-9d16-04588b41781a
URL:https://karlsunruh.org/event/f0e3098e-4052-447f-9d16-04588b41781a
SUMMARY:Stadtrundgang: „Karlsruher Green Vibes - Klima\, Wandel\, deine
  Stadt“
DTSTART:20251011T083000Z
DTEND:20251011T103000Z
CATEGORIES:Sonstiges\,Klimagerechtigkeit
DESCRIPTION:Die Herausforderungen unserer Zeit machen auch vor Karlsruhe
  nicht Halt. Wie verändert das unsere Stadt und wie wappnet sie sich für
  die Zukunft? Zusammen erkunden wir in zwei Stunden und zu Fuß fünf
  verschiedene Orte des Wandels in unserer Stadt und entdecken\, was sich
  hier hinsichtlich Klimaschutz\, Mobilitätswende und nachhaltiger Konsum
  bewegt. Lass dich inspirieren von Projekten und Möglichkeiten und
  erfahre\, wie du selbst Teil des Wandels sein kannst! \n\nDer
  Stadtrundgang ist für Menschen ab circa 12 Jahren geeignet. Wir
  möchten\, dass alle teilhaben können\, daher kontaktiert uns gerne\,
  falls irgendwelche Barrieren existieren\, und wir finden eine Lösung.
  Wir starten gemeinsam am Kronenplatz neben dem Café Intro. Wir empfehlen
  wetterangepasste Kleidung und eine Anmeldung an info@glow-karlsruhe.org.
  \n\nMehr Informationen unter: 
  https://glow-karlsruhe.org/karlsruher-stadtrundgaenge/
LOCATION:Kronenplatz\, Kronenplatz\, Tischtennisplatte bei Café Intro
GEO:49.0085838;8.4091911
ORGANIZER:mailto:GloW Karlsruhe e.V.
END:VEVENT
END:VCALENDAR
