BEGIN:VCALENDAR
VERSION:2.0
PRODID:karlsunruh.org
METHOD:REQUEST
BEGIN:VEVENT
UID:f1ed5f77-9d26-4278-92fb-115c5fa62bca
URL:https://karlsunruh.org/event/f1ed5f77-9d26-4278-92fb-115c5fa62bca
SUMMARY:BIET IT! Die Schallplatten- & Memorabilia-Versteigerung in der
  Hackerei
DTSTART:20260114T180000Z
CATEGORIES:Party\,Kultur
DESCRIPTION:Mi\, 14.01.2026\nBIET IT! Die Schallplatten- &
  Memorabilia-Versteigerung in der Hackerei\npräsentiert von Studio Eins
  Records & Alte Hackerei\nBeginn: 19:00 Uhr\n\n\nBIET IT! Das TOLLSTE
  Schallplatten & Memorabilia Versteigerungs-Format in der Alten Hackerei\,
  Karlsruhes gepflegtester Punkrock-Bar.Ein Abend der das Vinyl und die
  unterschiedlichsten Aufnahmen die in selbiges gepresst wurden zelebriert
  und feiert! Man kann seine ausgedienten Platten (oder musikbezogene
  Sammlerstücke) direkt vor der Show zur Versteigerung an der Bühne
  abgeben und mit ein bisschen Glück bei erfolgreicher Auktion mindestens
  sein Taschengeld aufbessern oder aber am Ende des Abends nervenstark und
  mit einer Träne im Knopfloch dem ehemaligen Besitz bei dessen ritueller
  Zerstörung ein Adieu zuwinken. Für die anderen Zuschauer gilt es ein
  solch trauriges Ende abzuwenden und sich selbst ein neues Lieblingsstück
  im (er)steigernden Wettkampf mit anderen Interessenten zu ergattern —
  just BIET IT! Die Besucher erwartet ein buntes Unterhaltungsprogramm mit
  Überraschungs-Specials wie z.B. einem GLÜCKSRAD und wechselnden
  Moderatoren(Teams). Die Gäste können sogar selbst Ihre Schallplatte auf
  der Bühne anpreisen und versteigern\, wenn sie das möchten! Am Ende des
  Abends werden die nicht versteigerten Auktionsgüter in einem furiosen
  Finale von den einzigartigen & hochprofessionellen Scharfrichtern Orgel
  Krueger\, Bingo Bongo\, LP Plexxter und diversen anderen\, auf vielerlei
  Art und Weise sensationell zerstört.\n\nEintritt frei!
LOCATION:Alte Hackerei\, Alter Schlachthof 11a\, 76131 Karlsruhe
GEO:49.0055385;8.4291958
ORGANIZER:mailto:Alte Hackerei
END:VEVENT
END:VCALENDAR
