BEGIN:VCALENDAR
VERSION:2.0
PRODID:karlsunruh.org
METHOD:REQUEST
BEGIN:VEVENT
UID:f31391a2-c57c-4e56-bebb-a2866d561a17
URL:https://karlsunruh.org/event/f31391a2-c57c-4e56-bebb-a2866d561a17
SUMMARY:offenes Arbeitstreffen zu Arbeitsbedingungen in der Kinder- und
  Jugendarbeit
DTSTART:20250519T170000Z
DTEND:20250519T200000Z
CATEGORIES:Treffen\,Solidarität
DESCRIPTION:Gemeinsam wollen wir uns über unsere Arbeitsbedingungen
  austauschen und an deren Verbesserung arbeiten.\n\nAustauschen\,
  diskutieren\, verändern!\n\n\nInfos zur Barrierefreiheit:\n\nDas Café
  Noir ist ebenerdig zugänglich. Eine barrierefreie Toilette steht zur
  Verfügung. Es stehen verschiedene Sitzgelegenheiten zur
  Verfügung.\n\nDas Café Noir ist über die Haltestellen Windeckstraße
  und Hardecksiedlung zu erreichen.\n\nWenn du Unterstützung bei der
  Anreise oder Gestaltung deines Besuchs haben möchtest\, schreibe uns
  gerne eine Mail an: cafe-noir@riseup.net
LOCATION:Café Noir\, Schauenburgstraße 5\, 76135 Karlsruhe
GEO:48.98860975680665;8.372009074104096
ORGANIZER:mailto:Café Noir
END:VEVENT
END:VCALENDAR
