BEGIN:VCALENDAR
VERSION:2.0
PRODID:karlsunruh.org
METHOD:REQUEST
BEGIN:VEVENT
UID:f3c658e6-8ccd-4fbe-b574-2c897d867b75
URL:https://karlsunruh.org/event/f3c658e6-8ccd-4fbe-b574-2c897d867b75
SUMMARY:Nein zur Bezahlkarte Karlsruhe - Offenes Plenum 
DTSTART:20251008T170000Z
DTEND:20251008T190000Z
CATEGORIES:Treffen\,Solidarität
DESCRIPTION:WIR BRAUCHEN UNTERSTÜTZUNG ‼️ KOMMT ZUM OFFENEN PLENUM ✅
  \n\nVor knapp einem halben Jahr wurde auch in Karlsruhe die sogenannte
  Bezahlkarte für Geflüchtete eingeführt. Sie schränkt die Menschen in
  ihrem ohnehin sehr knappen finanziellen Spielraum massiv ein. Besonders
  gravierend ist\, dass weder Überweisungen noch Bargeldabhebungen über
  50 € pro Monat möglich sind.\n\nWie in vielen anderen Städten in
  Deutschland haben auch wir in Karlsruhe eine "Nein zur Bezahlkarte"
  Gruppe gegründet. Wir unterstützen die Geflohenen dabei\, etwas mehr
  Freiheit über ihr ohnehin schon weniges Geld zu erhalten. Das Prinzip
  ist\, dass Geflüchtete mit ihrer Bezahlkarte Supermarktgutscheine
  kaufen\, die wir dann gegen Bargeld eintauschen. Der Bedarf ist
  groß.\n\nUm mehr zu erreichen\, brauchen wir jedoch dringend
  Unterstützung. Hier einige Beispiele\, wie sich Menschen einbringen
  können:\n🗓️ Tauschtermine organisieren und gemeinsam
  durchführen\n💬 Geflüchtete informieren und einladen\n🎨 Flyer
  gestalten und Mails bearbeiten\n📢 Kundgebungen planen um politischen
  Druck aufzubauen\n🤝 Räume und Läden suchen\, die unsere Arbeit
  unterstützen können \n💡und natürlich auch eigene Ideen
  einbringen\n\nAlle Menschen haben Fähigkeiten mit denen sie uns
  unterstützen können. Deshalb laden wir euch herzlich zu unserem offenen
  Plenum am 🗓️ 08. Oktober um 🕕 19 Uhr ein. Das Treffen findet im
  „Roten Stern“ in der  Steinstraße 23 statt. Dort wird es leckeres
  veganes Essen\, Getränke und die Möglichkeit geben\, unsere Arbeit
  besser kennenzulernen.  \n\nWir freuen uns sehr darauf\, mit euch ins
  Gespräch zu kommen\, gemeinsam zu schnabulieren und natürlich zu
  plenieren.
LOCATION:Gewerbehof\, Steinstraße 23 \,76133 Karlsruhe
GEO:49.006649;8.4073768
ORGANIZER:mailto:Nein zur Bezahlkarte
END:VEVENT
END:VCALENDAR
