BEGIN:VCALENDAR
VERSION:2.0
PRODID:karlsunruh.org
METHOD:REQUEST
BEGIN:VEVENT
UID:f5fc5b22-4941-47bd-949f-729d425a1cab
URL:https://karlsunruh.org/event/f5fc5b22-4941-47bd-949f-729d425a1cab
SUMMARY:DISTIVAL VI
DTSTART:20250906T150000Z
DTEND:20250906T170000Z
CATEGORIES:Konzert\,Kultur
DESCRIPTION:\nYeah\, wir gehen in unsere Sechste Runde und haben wieder
  Hammer Bands mit am Start!!\n1 Tag\, 8 Bands!\nCrust\, Grind\, HC
  Punk\, Powerviolence\n𝗮𝗯 15𝗨𝗵𝗿
  𝗕𝗶𝗲𝗿𝗴𝗮𝗿𝘁𝗲𝗻 𝗺𝗶𝘁
  𝗠𝘂𝘀𝗶𝗸\, 𝗠𝗶𝗻𝗶𝗿𝗮𝗺𝗽
  𝗔𝗰𝘁𝗶𝗼𝗻 𝘂𝗻𝗱 𝗩𝗲𝗴𝗮𝗻𝗲𝗿
  𝗜𝗺𝗯𝗶𝘀𝘀 𝘃𝗼𝗺 𝗖𝗮𝗳𝗲
  𝗡𝗼𝗶𝗿.\n17:30 𝗨𝗵𝗿 𝗘𝗶𝗻𝗹𝗮𝘀𝘀\,
  18:30 𝗞𝗿𝗮𝗰𝗵!\nTIX: \nNo-frills hardcore punk from the
  North – direct\, loud\, and blunt. 𝗦𝗽𝗶𝘁 𝗔𝗰𝗶𝗱
  show DistivalVI what honest noise really sounds
  like.\n\n𝗔𝗹𝘁𝗲𝗿𝗶 from Cologne are a powerful crust band
  known for their intense live energy. They’ve already played at P8\,
  where they had the honor of inaugurating the small stage — an
  unforgettable night. They were also part of the very first Distival\,
  leaving a lasting impression right from the start.\n\n𝗠𝗼𝗹𝗲
  from Berlin blast their way through crust\, d-beat\, and end-of-the-world
  vibes — perfect for anyone who's always been suspicious of hope
  anyway\n\n𝗪𝗶𝗹𝗹𝘅𝘀𝗺𝗶𝗰 – three positively crazy
  guys from Strasbourg\, tearing everything apart with relentless
  powerviolence. Loud\, wild\, lovingly chaotic – and absolutely
  unforgettable!\n\n𝗧𝗵𝗲 𝗣𝗿𝗶𝗺 – powerviolence from
  Erfurt: unpolished\, dirty\, and uncompromising. They already tore it up
  at Flint Aggression at P8. Loud\, raw – full-force hardcore!\n\nFrom
  the bleak lands of Sweden – here comes 𝗠:40!\nPure anger\,
  relentless energy\, and a wall of crust punk straight to your face.\nDark
  riffs\, relentless D-beats\, and lyrics that leave a mark – this is no
  feel-good show\, it’s the sound of collapse.\nFans of Scandinavian
  fury\, this one’s for you.\nCrust as fuck – M:40 are coming to wreck
  the place!\n\nHeads up noise freaks\n𝗗𝗮𝘆𝘀 𝗼𝗳
  𝗗𝗲𝘀𝗼𝗹𝗮𝘁𝗶𝗼𝗻 from Belgium are coming in hot
  with raw unfiltered grindcore chaos\nNo gimmicks just full throttle
  destruction\nIf your ears aren't bleeding you're standing too far
  back\nGet ready for blastbeats growls and total mayhem\nMiss it and cry
  later\n\n𝗕𝗼𝗹𝘇𝗲𝗻𝘀𝗰𝗵𝘂𝘀𝘀 – Marburg’s
  punch in the face for whatever’s bugging you\nRaw hardcore with zero
  chill and all attitude\nRiffs like bricks\, vocals like broken
  glass\nThis ain’t for dancing\, it’s for letting loose\nFor anyone
  who’s had enough and wants more\nSkip it than will regret it\n\n
LOCATION:p8\, Schauenburgstraße 5\, 76135 Karlsruhe
GEO:48.9887950677221;8.372030230380888
ORGANIZER:mailto:p8
END:VEVENT
END:VCALENDAR
