BEGIN:VCALENDAR
VERSION:2.0
PRODID:karlsunruh.org
METHOD:REQUEST
BEGIN:VEVENT
UID:f67e5ade-2013-4e7b-973d-ef6d8d925631
URL:https://karlsunruh.org/event/f67e5ade-2013-4e7b-973d-ef6d8d925631
SUMMARY:Südweststadt Hinterhofflohmarkt
DTSTART:20250524T080000Z
DTEND:20250524T150000Z
CATEGORIES:Sonstiges\,Sonstiges
DESCRIPTION:Am 24. Mai ist es wieder so weit: Die Südweststadt öffnet
  ihre Hinterhöfe und Gärten für den großen Stadtteilflohmarkt! Von 10
  bis 17 Uhr verwandelt sich das Viertel in einen bunten Marktplatz\, auf
  dem es viel zu entdecken gibt. Ob Kleidung\, Bücher\, Spielzeug oder
  kleine Raritäten – hier könnt ihr stöbern\, handeln und vielleicht
  euer neues Lieblingsstück finden.\n\nNeben den vielen Flohmarktständen
  gibt es jede Menge Gelegenheiten\, mit Nachbar:innen ins Gespräch zu
  kommen und neue Kontakte zu knüpfen. Der Stadtteilflohmarkt bietet eine
  tolle Möglichkeit\, das Viertel und seine Menschen besser
  kennenzulernen.\n\nDie zentrale Anlaufstelle ist dieses Jahr wieder in
  der Roonstraße 23a. Dort könnt ihr euch mit einem Lageplan der
  teilnehmenden Höfe ausstatten und gleich an den ersten Ständen los
  stöbern. Außerdem erfahrt ihr dort mehr über den Verein GloW Karlsruhe
  e.V.\, der die Aktion ins Leben gerufen hat.\n\nKommt vorbei und erlebt
  einen besonderen Tag voller Begegnungen\, Entdeckungen und
  Südweststadt-Flair! Alle sind herzlich willkommen!\n\nIhr möchtet
  selbst aktiv werden und Sachen verkaufen? Dann schaut auf unsere Webiste
  und macht mit eurem (Hinter)Hof mit!
LOCATION:Ganze Südweststadt\, Roonstraße 23a
GEO:49.0015269;8.3879422
ORGANIZER:mailto:GloW Karlsruhe e.V.
END:VEVENT
END:VCALENDAR
