BEGIN:VCALENDAR
VERSION:2.0
PRODID:karlsunruh.org
METHOD:REQUEST
BEGIN:VEVENT
UID:f92dcc43-ef4a-4213-8cfe-5ca6aaa06191
URL:https://karlsunruh.org/event/f92dcc43-ef4a-4213-8cfe-5ca6aaa06191
SUMMARY:Blind Delon + Roma Deserta
DTSTART:20260617T180000Z
DTEND:20260617T200000Z
CATEGORIES:Konzert\,Kultur
DESCRIPTION:Einmal im Jahr hat es sich irgendwie bereits eingeschlichen\,
  dass wir eine Show mit BLIND DELON machen. So auch in diesem Jahr.
  Selbstverständlich!\nIn ihrem schwarzen Granit-Raumschiff bewegt sich
  die Kabinenbesatzung in Zeitlupe\, befreit von der Schwerelosigkeit. Die
  Mitglieder der Mission sinken in die dunklen Tiefen des Universums und
  beobachten mit Furcht und Resignation\, wie sich unsere Galaxie entfernt
  bis sie nur noch ein winziger Lichtpunkt ist. In den großen\, leeren
  Hallen der Maschine hallen die synthetischen und eisigen Hymnen von Blind
  Delon wider.\nDas 2016 von Mathis Kolkoz gegründete Projekt aus Toulouse
  (Frankreich) präsentiert heute sein viertes Studioalbum BLAST\, eine
  Klangexplosion\, die New Wave und Post-Rock kraftvoll miteinander
  verschmilzt. Ohne jegliche Unvollkommenheit verschmelzen aggressive
  Basslinien und chorartige\, an The Cure erinnernde Gitarrenwände zu
  einer einzigartigen Klanglandschaft\, die der Post-Wave-DNA der Band treu
  bleibt.\nDavor ROMA DESERTA. Das ist ein Solo‑Projekt von Dennies\,
  inspiriert vom Wave‑Pop und Post Punk der 80er. In voller Bandbesetzung
  verbindet der facettenreiche Sound Einflüsse aus Alternative\,
  Psychedelic und Indie. Dennies arbeitet regelmäßig mit wechselnder
  Besetzung\, bringt die Songs derzeit aber solo live auf die
  Bühne.\nhttps://romadeserta.bandcamp.com/album/demo-versions\nEinlass:
  19 Uhr\, Beginn: 20 Uhr
LOCATION:Kohi\, Werderstr. 47\, 76137 Karlsruhe
GEO:49.0016763;8.407540161512713
ORGANIZER:mailto:Kohi
END:VEVENT
END:VCALENDAR
