BEGIN:VCALENDAR
VERSION:2.0
PRODID:karlsunruh.org
METHOD:REQUEST
BEGIN:VEVENT
UID:f9e02af5-7166-464f-ae43-de1ef2b81c22
URL:https://karlsunruh.org/event/f9e02af5-7166-464f-ae43-de1ef2b81c22
SUMMARY:Zubringer zur ADFC-Sternfahrt in Stuttgart
DTSTART:20260621T053000Z
CATEGORIES:Sport/Bewegung\,Mobilität
DESCRIPTION:Am 21. Juni 2026 rollen wir gemeinsam nach Stuttgart: Mit
  tausenden Menschen aus ganz Baden-Württemberg radeln wir zum Karlsplatz
  – mitten in die Stadt\, mitten in der Debatte um die Mobilität der
  Zukunft. Denn: Die Zukunft fährt Rad!\n\nUnsere Botschaft ist klar:
  Radfahren muss für alle möglich\, sicher\, komfortabel und
  selbstverständlich sein!\n\nLetztes Jahr nahmen im September 5.400
  Menschen an der Radsternfahrt nach Stuttgart teil – ein großer Erfolg
  für das Radfahren in Baden-Württemberg. Bei trockenem und warmem Wetter
  fand die Sternfahrt regen Zuspruch aus allen Himmelsrichtungen. Klein und
  Groß\, Jung und Alt radelten nach Stuttgart – auch Politiker*innen wie
  Cem Özdemir und Verkehrsminister Winfried Hermann waren mit dem Fahrrad
  dabei. Sogar aus Freiburg\, Karlsruhe\, Heidelberg oder Schwäbisch
  Gmünd kamen Unterstützer*innen nach Stuttgart. Auf 12
  polizeibegleiteten Strecken ging die Demo über die autofreien
  Bundesstraßen B10 und B14 bis zum Schlossplatz – endlich gab es mal
  richtig viel Platz fürs Fahrrad!\n\nEin Tag\, der bewegt und
  verbindet\n\nDie Sternfahrt ist ein Fest auf zwei Rädern – bunt\,
  laut\, fröhlich und voller Energie. Egal ob jung oder alt\, sportlich
  oder gemütlich: Alle sind willkommen und können mitfahren!\n\nSo sieht
  es heute noch aus: Tag für Tag müssen wir uns die wenigen
  Fahrradstraßen mit Autofahrenden teilen. Große Straßen sind dagegen
  dem Autoverkehr vorbehalten. Aber einmal im Jahr demonstrieren wir genau
  dort für mehr Platz für uns Radfahrende. Wir erleben\, wie unsere
  Mobilität aussehen könnte\, wenn sie sich an den Menschen orientiert
  – und nicht nur am Auto.\n\nGemeinsam auf der Sternfahrt sind wir
  sicher\, entspannt und selbstbewusst auf komfortablen Straßen unterwegs.
  So viel Spaß kann Radfahren machen – und so soll es überall werden\,
  365 Tage im Jahr!\n\nViele Treffpunkte auf Routen aus allen
  Himmelsrichtungen mit rund 400 Kilometern führen auch bei Dir vorbei.
  Mehrere Zubringer erweitern die Sternfahrt.\n\n-----\n\nStart sportlicher
  Zubringer um 7:45 am Kronenplatz. Bitte Mitbringen: Gute Kondition für
  einige Höhenmeter mit ca. 20 km/h Durchschnittsgeschwindigkeit. Sowie
  Getränke und Proviant für unterwegs.\n\nWir machen um 9:45 Station in
  Pforzheim und schließen uns gegen 11:30 dem angemeldeten Zubringer in
  Weil der Stadt an.\n
LOCATION:Critical Mass Karlsruhe\, Kronenplatz 22 Karlsruhe
GEO:49.0085838;8.4091911
ORGANIZER:mailto:Critical Mass Karlsruhe
END:VEVENT
END:VCALENDAR
