BEGIN:VCALENDAR
VERSION:2.0
PRODID:karlsunruh.org
METHOD:REQUEST
BEGIN:VEVENT
UID:fa9a3312-3d1d-4906-bd0f-89c3eaa20f86
URL:https://karlsunruh.org/event/fa9a3312-3d1d-4906-bd0f-89c3eaa20f86
SUMMARY:Widerstands-Kollektiv - offenes Plenum
DTSTART:20260331T170000Z
DTEND:20260331T190000Z
CATEGORIES:Treffen\,Klimagerechtigkeit
DESCRIPTION:offenes Plenum des Widerstands-Kollektiv Karlsruhe\n\nab 19:00
  vegane Küfa\, danach offenes Plenum\n\nEmail:
  karlsruhe@widerstands-kollektiv.org\n\nLinktree:
  https://linktr.ee/WiK_Karlsruhe
LOCATION:Zähringerstraße 10\, 1. OG
GEO:49.0085922;8.4141338
ORGANIZER:mailto:Widerstands-Kollektiv Karlsruhe
END:VEVENT
END:VCALENDAR
