BEGIN:VCALENDAR
VERSION:2.0
PRODID:karlsunruh.org
METHOD:REQUEST
BEGIN:VEVENT
UID:fb000a0a-04f9-484c-a139-3b57adc1afb4
URL:https://karlsunruh.org/event/fb000a0a-04f9-484c-a139-3b57adc1afb4
SUMMARY:Buchvorstellung: Klimawende jetzt!
DTSTART:20250618T170000Z
DTEND:20250618T190000Z
CATEGORIES:Vortrag\,Klimagerechtigkeit
DESCRIPTION:Mit dem Herausgeber Hermann Theisen\,\nDr. Franz Alt\,
  Journalist und Autor zahlreicher Sachbuchbestseller\,\nKarola Knuth\,
  eine der Klägerinnen vor dem Bundesverfassungsgericht gegen die
  Bundesregierung wegen unzureichender Einhaltung der Klimaziele\,\nDarya
  Sotoodeh\, Klimaaktivistin aus Heidelberg mit den Schwerpunkten
  Antirassismus und Klimagerechtigkeit\,\nBurkhart Braunbehrens\,
  Aktivist\, u.a. ehemaliger Gesellschaftsrat der Rüstungsfirma
  Krauss-Maffei-Wegmann und\nWolf Wondratschek\, Schriftsteller
  (hybrid).\n\nSeit Jahren zeigen wissenschaftliche Klimadaten klar den
  Zusammenhang zwischen dem Klimawandel und unserem Verhalten. Extreme
  Wetterereignisse wie Hitze\, Starkregen und Dürren prägen längst
  unseren Alltag. Politik\, Wirtschaft und jede:r Einzelne müssen endlich
  handeln\, doch es passiert viel zu wenig. Warum tun wir nicht das\, was
  wir eigentlich tun müssten? Die Autor*innen des Buchs „Klimawende
  jetzt!“ möchten hierzu Antworten geben.\n\nIn Zusammenarbeit mit der
  Gruppe Karlsruhe der Deutschen Friedensgesellschaft – Vereinigte
  Kriegsdienstgegner*innen
  DFG-VK\n\nhttps://www.oekom.de/buch/klimawende-jetzt-9783987261459\n
LOCATION:Kinemathek\, Kaiserpassage 6 76133 Karlsruhe
GEO:49.010608500000004;8.396970535255974
ORGANIZER:mailto:Kinemathek,DFG-VK
END:VEVENT
END:VCALENDAR
