BEGIN:VCALENDAR
VERSION:2.0
PRODID:karlsunruh.org
METHOD:REQUEST
BEGIN:VEVENT
UID:fb54103d-5de0-46e2-854c-9f64df0c1985
URL:https://karlsunruh.org/event/fb54103d-5de0-46e2-854c-9f64df0c1985
SUMMARY:Queerfeministischer Lesekreis
DTSTART:20251128T170000Z
DTEND:20251128T190000Z
CATEGORIES:Sonstiges\,Queerfeminismus
DESCRIPTION:Am 28.11. ist wieder Queerfeministischer Lesekreis!\nWir
  sprechen über 1–2 Kapitel aus einem Buch oder Artikel – und alles\,
  was uns dazu sonst noch bewegt. Komm vorbei\, bring deine Gedanken mit
  und lass uns dazu austauschen! \nDiesmal treffen wir uns im QueerKAstle
  🏳️‍🌈 (Liebigstr. 10-12).\n\n📅 Nächstes Treffen:\nFreitag\,
  28.11. | 18:00 Uhr | QueerKAstle\n\n❄️ Wir bleiben dran!\nBeim
  nächsten Treffen am 28.11. sprechen wir weiter über „Die Zukunft ist
  nicht binär“ von Lydia Meier – weil die letzten zwei Kapitel noch so
  viele spannende Gedanken offen gelassen haben. Sei dabei und bring deine
  Perspektive mit!:\nWir sprechen über Kapitel 8 & 9.\nZu Beginn gibt es
  eine kurze Einführung\, damit alle mitdiskutieren können – auch wenn
  du den Text nicht gelesen hast.\n✨ Jede*r ist willkommen!\nSpontan
  vorbeikommen? Kein Problem! \nBring gern einen 🥜 Snack mit (kein Muss)
  und mach es dir mit uns gemütlich.\n⚠️ Contentnote:\nDenkt daran\,
  das Buch behandelt Themen wie Diskriminierung\, Gewalt und psychische
  Belastungen im Kontext von Geschlechtsidentität und gesellschaftlichen
  Strukturen\, gerade auch in den Kapiteln 8 und 9.
LOCATION:QueerKAstle\, Liebigstr 10-12
ORGANIZER:mailto:Weiche Kanten
END:VEVENT
END:VCALENDAR
