BEGIN:VCALENDAR
VERSION:2.0
PRODID:karlsunruh.org
METHOD:REQUEST
BEGIN:VEVENT
UID:fc52640f-db9e-4147-9f4c-087027abbae9
URL:https://karlsunruh.org/event/fc52640f-db9e-4147-9f4c-087027abbae9
SUMMARY:KOHI meets Querfunk
DTSTART:20260405T170000Z
DTEND:20260405T190000Z
CATEGORIES:Konzert\,Kultur
DESCRIPTION:Querfunk is the place to hear!\nJeden ersten Sonntag im Monat
  ab 19 Uhr verbreiten wir unsere hauseigene Radiosendung über den Äther.
  Auf 104\,8 MHz und im Internet. Das KOHI funkt also ordentlich
  dazwischen! Die Bands und die Acts\, die hier laufen\, spielen bei uns
  live. Eine glänzende Möglichkeit also zum Mäuschen spielen und perfekt
  vorbereitet aufzutrumpfen\, bei den mittlerweile oft Legende gewordenen
  KOHI-Shows. Irgendwo zwischen Neoschlager\, Postkraut\, Subpop und
  Undergroundrap ist hier alles möglich. Ohren auf also\, wenn es wieder
  heißt: KOHI meets Querfunk.\nBeginnt auf 104\,8 Mhz um 19 Uhr\nEine
  Woche zum Nachhören hier:\nhttps://stream.querfunk.de/
LOCATION:Kohi\, Werderstr. 47\, 76137 Karlsruhe
GEO:49.0016763;8.407540161512713
ORGANIZER:mailto:Kohi
END:VEVENT
END:VCALENDAR
