BEGIN:VCALENDAR
VERSION:2.0
PRODID:karlsunruh.org
METHOD:REQUEST
BEGIN:VEVENT
UID:fd0a6be2-2e99-4054-afb5-f5f020305df6
URL:https://karlsunruh.org/event/fd0a6be2-2e99-4054-afb5-f5f020305df6
SUMMARY:PARTY: Ladies Take Over Friday Karlsruhe - Party
DTSTART:20250523T170000Z
DTEND:20250523T170000Z
CATEGORIES:Konzert
DESCRIPTION:Was ist denn eigentlich Ladies TakeOver Friday Karlsruhe?
  Einmal im Monat wird von Lesben & ihren Freundinnen eine Location zu
  einer Lesben-Location gemacht!Immer in Karlsruhe\, aber möglichst immer
  woanders. Und im November eben wieder in der Alten Hackerei!\nSuchst Du
  neue Kontakte für Freizeit\, Beruf und Ähnliches\, oder willst Du
  einfach einen netten Abend in gepflegter Atmosphäre mit anregenden
  Gesprächen erleben?Dann komm vom Sofa runter und komme zum Ladies
  TakeOver Friday Karlsruhe.Ladies TOF ist kein Verein\, sondern bringt
  interessierte Lesben und ihre Freundinnen zusammen\, damit diese
  gemeinsam einen tollen Abend erleben können.\nBist Du allein und traust
  Dich nicht? Keine Angst - die Gastgeberinnen und das freundliche Team der
  Hackerei kümmern sich um Dich und erleichtern Dir den Start - für den
  Rest musst Du aber dann selber sorgen. Komm vorbei!\nLos geht’s um
  19:00 Uhr entspannt mit einem gemütlichen Get Together und ab 21:00 Uhr
  wird getanzt bis 3:00 Uhr. Für die perfekte Party-Stimmung sorgt DJane
  LeFrik mit tanzbaren Hits!\nLesben und FINTA* only!\n
LOCATION:Alte Hackerei\, Alter Schlachthof 11a\, 76131 Karlsruhe
GEO:49.0055385;8.4291958
ORGANIZER:mailto:Alte Hackerei
END:VEVENT
END:VCALENDAR
