BEGIN:VCALENDAR
VERSION:2.0
PRODID:karlsunruh.org
METHOD:REQUEST
BEGIN:VEVENT
UID:fd868f4c-2c43-45ec-8096-2de0aee8aab5
URL:https://karlsunruh.org/event/fd868f4c-2c43-45ec-8096-2de0aee8aab5
SUMMARY:KONZERT: SommerSAUse
DTSTART:20250913T140000Z
CATEGORIES:Konzert\,Kultur
DESCRIPTION:Sa\, 13.09.2025\nKONZERT: SommerSAUse\nKonzert präsentiert von
  SAU e.V.\nBeginn: 16:00 Uhr\n\n\nAm Samstag\, den 13. September\, lädt
  der S.A.U. e.V. (Subculture and Underground e.V.) zur SommerSAUse in die
  Alte Hackerei ein\, eine Beneﬁzveranstaltung zugunsten der Karlsruher
  Subkulturszene. Ab 16 Uhr sorgen regionale Acts auf Biergartenbühne und
  im Konzertraum für ordentlich Druck auf die Ohren. Mit dabei: LEHNER
  (Indierock/Postpunk)\, THE SNACKS (Punkfood)\, BLUTWURST (Punk) und
  PENNYROUNDHOUSEKICK (HC Punk)\, GABA WIERZBICKA (Singer/Songwriterin)\,
  DISGRACE (Oldschool Trashmetal)\, ALASKA BEACH CLUB (Ska Punk)\, die
  junge Newcomerband ŻUL (Prog/Trashmetal) und als Ehrengast ENNA ERBEN -
  ehrlich\, leidenschaftlich\, und mit maximaler Energie!\n\nHintergrund
  der Veranstaltung sind die angekündigten massiven Kürzungen
  städtischer Fördermittel. Der S.A.U. e.V. will mit dem Fest auf die
  wachsenden Herausforderungen der Konzertﬁnanzierung aufmerksam machen
  und neue Mitglieder gewinnen. Der Verein wurde bereits zweimal mit dem
  Bundeskulturpreis „Applaus“ für seine herausragende
  Programmkonzeption ausgezeichnet.\n\nDer Eintritt ist frei\, Spenden sind
  willkommen. Neben Musik gibt’s alles\, was eine SommerSAUse braucht:
  Daiquiris\, Foodtruck\, Losbude mit subkulturellen Preisen - vieles
  handgemacht\, versteht sich.\n\nKommt alle\, wir lassen die SAU raus!
LOCATION:Alte Hackerei\, Alter Schlachthof 11a\, 76131 Karlsruhe
GEO:49.0055385;8.4291958
ORGANIZER:mailto:Alte Hackerei
END:VEVENT
END:VCALENDAR
