BEGIN:VCALENDAR
VERSION:2.0
PRODID:karlsunruh.org
METHOD:REQUEST
BEGIN:VEVENT
UID:fe982e2a-cb8b-429a-89c5-8adb619ed7db
URL:https://karlsunruh.org/event/fe982e2a-cb8b-429a-89c5-8adb619ed7db
SUMMARY:NOT SCIENTISTS
DTSTART:20260328T190000Z
DTEND:20260328T210000Z
CATEGORIES:Konzert\,Kultur
DESCRIPTION:NOT SCIENTISTS\nsind aus der Band Uncommonmenfrommars
  hervorgegangen. Angetrieben von dem Wunsch\, ihre Gitarrenklänge
  aufzuhellen\, ohne die rohe Kraft ihres Sounds zu opfern\, eroberten die
  vier Musiker schnell die Bühnen. Von Bars bis hin zu Festivalbühnen in
  ganz Europa und den USA – Not Scientists legten Tausende von Kilometern
  zurück und gewannen mit ihren Indie-orientierten Harmonien\, angetrieben
  von kristallklaren Gitarren und einer überwältigenden Rhythmusgruppe\,
  ein zunächst neugieriges\, dann ein treues Publikum für sich.\nIm
  Geiste der französischen Independent-Musikszene veröffentlichten Not
  Scientists bald ihre erste EP „LEAVE STICKERS ON OUR GRAVES“ und ihr
  Debütalbum „DESTROY TO REBUILD“. Der kreative Wandel mit ihrem
  zweiten Album „GOLDEN STAPLES“ (2018) war entscheidend für die
  Sound-Entwicklung: Melodischer Reichtum und klare Gitarren wurden durch
  New-Wave-Einflüsse und langsamere BPMs verstärkt. Santi Garcia half
  ihnen\, im Februar 2023 das reife und selbstbewusste Album „STARING AT
  THE SUN“ zum Leben zu erwecken\, mit dem die Band neue
  Klanglandschaften erkundete\, ohne ihre Punkrock-Energie aufzugeben. Nach
  der Live-EP „STARING AT THE MOON“ (Frühjahr 2024) erschien im Herbst
  2025 ihr viertes Album „VOICES“. Damit trieben sie ihren Wunsch\,
  sich selbst zu überraschen\, noch weiter voran und blieben gleichzeitig
  den Werten treu\, die sie zu einem festen Bestandteil der französischen
  Indie-Rock-Szene gemacht haben. „VOICES“ ist ein strahlendes Album\,
  auf dem die Wärme der Gitarren mit der Kälte der Maschinen kollidiert
  und feurige Verse frechen Melodien und klaren Refrains Rhythmus verleihen
  – aktualisiert für die Musikfans von heute.\nEinlass: 19 Uhr\, Beginn:
  20 Uhr
LOCATION:Kohi\, Werderstr. 47\, 76137 Karlsruhe
GEO:49.0016763;8.407540161512713
ORGANIZER:mailto:Kohi
END:VEVENT
END:VCALENDAR
