BEGIN:VCALENDAR
VERSION:2.0
PRODID:karlsunruh.org
METHOD:REQUEST
BEGIN:VEVENT
UID:6b0fff50-df86-4cbd-9b8c-f84fb57a931b
URL:https://karlsunruh.org/event/6b0fff50-df86-4cbd-9b8c-f84fb57a931b
SUMMARY:LiegendDemo Karlsruhe
DTSTART:20260509T110000Z
DTEND:20260509T133000Z
CATEGORIES:Demo/Kundgebung\,Sonstiges
DESCRIPTION:Was\, Wann\, Wo?\n\nAm 09.05.2026 um 13 Uhr findet auf dem
  Friedrichsplatz in Karlsruhe unsere LiegendDemo statt. Wir versammeln
  uns\, um auf die Situation von Menschen mit ME/CFS\, Long Covid und Post
  Vac aufmerksam zu machen. Viele von ihnen sind so schwer betroffen\, dass
  sie den Großteil des Tages liegend in einem abgedunkelten Raum
  verbringen müssen. \nMit der LiegendDemo machen wir genau das sichtbar:
  Wir legen uns gemeinsam hin – stellvertretend für all jene\, die nicht
  selbst vor Ort sein können.\n\nWas ist ME/CFS? \n\nME/CFS ist eine
  schwere neuroimmunologische Multisystemerkrankung\, für die es derzeit
  keine Heilung gibt. In Deutschland sind rund 650.000 Menschen an ME/CFS
  erkrankt\, darunter ca. 80.000 Kinder und Jugendliche. Die
  Lebensqualität gehört zu den niedrigsten aller bekannten Erkrankungen
  und wird oft mit der von Menschen mit Krebs oder AIDS im Endstadium
  verglichen. ME/CFS ist seit 1969 von der WHO
  (Weltgesundheitsorganisation) anerkannt. Dennoch fehlt bis heute
  ausreichendes Handeln in Medizin\, Pflege und Versorgung.\nFür viele
  Betroffene fühlt sich diese Krankheit an wie lebendig begraben zu
  sein.\n\nWarum brauchen wir dich?\n\nDiese Aktion lebt besonders von der
  Unterstützung gesunder Menschen. Denn viele Erkrankte sind zu krank\, um
  teilzunehmen. Umso wichtiger ist es\, dass du kommst\, dich hinlegst und
  uns deine Stimme gibst!\n\nWer sind wir?\n\nWir als #liegenddemo sind
  eine Initiative von Betroffenen und Unterstützer*innen\, die sich für
  mehr Aufklärung\, Anerkennung und Forschung rund um ME/CFS und Long
  Covid einsetzt. Unser Ziel ist es\, Unsichtbares sichtbar zu machen und
  echte Veränderung anzustoßen. Die LiegendDemos finden vom
  08.-12.05.2026 bundesweit in über 30 Städten statt. \n\nAlso: Schnapp
  dir eine Isomatte oder Campingliege\, bring Freund*innen mit und setz
  gemeinsam mit uns ein Zeichen!\n
LOCATION:Friedrichsplatz\, Erbprinzenstraße\, Karlsruhe
GEO:49.0083335;8.3990248
ORGANIZER:mailto:LiegendDemo Karlsruhe
END:VEVENT
END:VCALENDAR
