BEGIN:VCALENDAR
VERSION:2.0
PRODID:karlsunruh.org
METHOD:REQUEST
BEGIN:VEVENT
UID:3bee98f3-67a4-46b4-b45d-da21692f07db
URL:https://karlsunruh.org/event/3bee98f3-67a4-46b4-b45d-da21692f07db
SUMMARY:Aktionstag "Raus aus dem Gasrausch
DTSTART:20260424T140000Z
CATEGORIES:Demo/Kundgebung\,Klimagerechtigkeit
DESCRIPTION:⁨⁨Schon wieder Energiekrise\, schon wieder hohe Preise. Es
  wird immer eindeutiger das wir unabhängig von fossilen Energien werden
  müssen. \nDoch stattdessen will uns Katherina Reiche (CDU) weiter in die
  fossile Abhängigkeit treiben. Die SPD macht bei dieser teuren und
  unsozialen Politik auch noch mit. \n\n📢Nicht mit uns📢\nWir gehen am
  24.04. auf die Straße \num 16:00 in der Waldstraße 71 vor dem CDU
  Parteibüro.⁩
LOCATION:vor der Waldstraße 71\, Karlsruhe waldstraße 71
GEO:49.0077096;8.3938041
ORGANIZER:mailto:Fridays For Future Karlsruhe
END:VEVENT
END:VCALENDAR
