BEGIN:VCALENDAR
VERSION:2.0
PRODID:karlsunruh.org
METHOD:REQUEST
BEGIN:VEVENT
UID:b6c421e9-87f3-4c39-9fd0-09ba0f4f2a21
URL:https://karlsunruh.org/event/b6c421e9-87f3-4c39-9fd0-09ba0f4f2a21
SUMMARY:Lesenachmittag im Entropia
DTSTART:20260426T130000Z
DTEND:20260426T150000Z
CATEGORIES:Treffen\,Kultur
DESCRIPTION:Viel macht mehr Spaß\, wenn man sich mit anderen drüber
  unterhalten kann. Also: Lies etwas und erzähl davon!\n\nWir treffen uns
  jeden 2ten und 4ten Sonntag im Monat um 15:00 (startend mit dem
  26.10.2025) und reden über's Lesen. Anders als im Buchclub lesen wir
  aber nicht alle gleichzeitig das gleiche Buch - sondern lesen\, was auch
  immer uns gerade interessiert. Oder was gerade in der Schule\, auf
  Arbeit\, oder sonstwo\, ansteht. Jede_r im eigenen Tempo\, nach eigenem
  Interesse\, ohne lange Abstimmungen und Diskussionen bevor es los
  geht.\n\nZiel des ganzen ist\, sich in gemütlicher Atmosphäre über
  (kürzlich) Gelesenes auszutauschen. Vielleicht findest du dadurch neue
  Blickwinkel auf Altbekanntes\, triffst andere Fans der deiner liebsten
  Fantasy-Charaktere\, oder entdeckst ein neues spannendes
  Forschungsfeld?\n\nJede Art von Text ist willkommen - Artikel\,
  Kurzgeschichtensammlung\, Manga oder epische Romanreihe\; Gedruckt\,
  elektronisch\, oder Audio\; Romantasy\, wissenschaftliche Publikation\,
  oder Kochbuch - gelesen wird\, was Spaß macht\, so wie es Spaß
  macht.\n\nMehr Infos auf https://entropia.de/Lesenachmittag
LOCATION:Gewerbehof\, Steinstraße 23 \,76133 Karlsruhe
GEO:49.006649;8.4073768
ORGANIZER:mailto:Entropia e.V.
END:VEVENT
BEGIN:VEVENT
UID:8afb06fc-f3cc-48e2-9ffb-17f0befe09da
URL:https://karlsunruh.org/event/8afb06fc-f3cc-48e2-9ffb-17f0befe09da
SUMMARY:Palantir als Baustein der autoritären Wende
DTSTART:20260430T160000Z
DTEND:20260430T190000Z
CATEGORIES:Vortrag\,Sonstiges
DESCRIPTION:Berichte über Terroranschläge versetzen immer wieder die
  Bürgerinnen und Bürger in Angst und Schrecken. Die Antwort der Politik
  folgt allerorts dem gleichen Muster: Stetig weitet die Legislative
  Gesetze aus\, die Überwachungsmaßnahmen in der Gesellschaft regeln. Ob
  Videoüberwachung\, Vorratsdatenspeicherung\, automatisierte Analyse
  durch „KI“ oder die Vorhersage von Straftaten (predictive policing)
  und die damit einhergehende Verdächtigung Unschuldiger. So sorgte Ende
  letzten Jahres die Grün-Schwarze Landesregierung Baden-Württembergs
  für eine Änderung des Polizeigesetzes\, um den Einsatz der bereits
  gekauften Software „Gotham“ der US-Firma Palantir zu legalisieren. In
  einigen anderen Bundesländern sieht es ähnlich aus. Diese Software
  erlaubt es\, weltweit riesige Mengen an Personen-Daten für
  Überwachungs- und Ermittlungszwecke zu bündeln\, automatisiert
  auszuwerten und darzustellen. Im krassen Widerspruch zur Ausweitung von
  Überwachungsmaßnahmen steht\, dass in den Polizeistatistiken bei uns
  oft ein Rückgang von Straftaten dokumentiert ist. \n\nWarum wir uns in
  Deutschland so Schritt für Schritt auf gefährliches Terrain begeben –
  alle Bürgerinnen und Bürger gläsern und unter Generalverdacht gestellt
  – wird im Vortrag dargelegt. Es wird ein Blick auf die Produzenten der
  Technologie und den Tech-Sektor insgesamt geworfen und die Hintermänner
  des Trump-Regimes beleuchtet. Ihre offen zur Schau getragene
  menschenfeindliche Ideologie und oft abstrusen Ziele werden aufgezeigt.
  Wir schauen nicht nur auf ihren langen Arm\, den sie bereits nach Europa
  ausstrecken\, sondern wollen herausfinden\, was man dagegen tun kann.
  Hierfür sind NaN vom Chaostreff Tübingen sowie der
  Politikwissenschaftler Christopher Coenen bei uns zu Gast. Nach kurzen
  Impulsvorträgen der beiden\, kannst du deine Fragen im Q&A loswerden und
  im Anschluss gemeinsam mit dem Publikum diskutieren. Beim Networking und
  entspannten Austausch lassen wir den Abend ausklingen.
LOCATION:TRIANGEL\, Kaiserstraße 93\, 76133 Karlsruhe
GEO:49.0092217;8.4087317
ORGANIZER:mailto:Entropia e.V.,TRIANGEL,Chaostreff Tübingen,KIT Zentrum
  Mensch und Technik
END:VEVENT
BEGIN:VEVENT
UID:7f2667f8-be2d-4a3e-9a43-1c5b7a7e32c4
URL:https://karlsunruh.org/event/7f2667f8-be2d-4a3e-9a43-1c5b7a7e32c4
SUMMARY:Lesenachmittag im Entropia
DTSTART:20260510T130000Z
DTEND:20260510T150000Z
CATEGORIES:Treffen\,Kultur
DESCRIPTION:Viel macht mehr Spaß\, wenn man sich mit anderen drüber
  unterhalten kann. Also: Lies etwas und erzähl davon!\n\nWir treffen uns
  jeden 2ten und 4ten Sonntag im Monat um 15:00 (startend mit dem
  26.10.2025) und reden über's Lesen. Anders als im Buchclub lesen wir
  aber nicht alle gleichzeitig das gleiche Buch - sondern lesen\, was auch
  immer uns gerade interessiert. Oder was gerade in der Schule\, auf
  Arbeit\, oder sonstwo\, ansteht. Jede_r im eigenen Tempo\, nach eigenem
  Interesse\, ohne lange Abstimmungen und Diskussionen bevor es los
  geht.\n\nZiel des ganzen ist\, sich in gemütlicher Atmosphäre über
  (kürzlich) Gelesenes auszutauschen. Vielleicht findest du dadurch neue
  Blickwinkel auf Altbekanntes\, triffst andere Fans der deiner liebsten
  Fantasy-Charaktere\, oder entdeckst ein neues spannendes
  Forschungsfeld?\n\nJede Art von Text ist willkommen - Artikel\,
  Kurzgeschichtensammlung\, Manga oder epische Romanreihe\; Gedruckt\,
  elektronisch\, oder Audio\; Romantasy\, wissenschaftliche Publikation\,
  oder Kochbuch - gelesen wird\, was Spaß macht\, so wie es Spaß
  macht.\n\nMehr Infos auf https://entropia.de/Lesenachmittag
LOCATION:Gewerbehof\, Steinstraße 23 \,76133 Karlsruhe
GEO:49.006649;8.4073768
ORGANIZER:mailto:Entropia e.V.
END:VEVENT
BEGIN:VEVENT
UID:44b02754-f80b-4c41-9a21-35adfe26cffb
URL:https://karlsunruh.org/event/44b02754-f80b-4c41-9a21-35adfe26cffb
SUMMARY:Lesenachmittag im Entropia
DTSTART:20260524T130000Z
DTEND:20260524T150000Z
CATEGORIES:Treffen\,Kultur
DESCRIPTION:Viel macht mehr Spaß\, wenn man sich mit anderen drüber
  unterhalten kann. Also: Lies etwas und erzähl davon!\n\nWir treffen uns
  jeden 2ten und 4ten Sonntag im Monat um 15:00 (startend mit dem
  26.10.2025) und reden über's Lesen. Anders als im Buchclub lesen wir
  aber nicht alle gleichzeitig das gleiche Buch - sondern lesen\, was auch
  immer uns gerade interessiert. Oder was gerade in der Schule\, auf
  Arbeit\, oder sonstwo\, ansteht. Jede_r im eigenen Tempo\, nach eigenem
  Interesse\, ohne lange Abstimmungen und Diskussionen bevor es los
  geht.\n\nZiel des ganzen ist\, sich in gemütlicher Atmosphäre über
  (kürzlich) Gelesenes auszutauschen. Vielleicht findest du dadurch neue
  Blickwinkel auf Altbekanntes\, triffst andere Fans der deiner liebsten
  Fantasy-Charaktere\, oder entdeckst ein neues spannendes
  Forschungsfeld?\n\nJede Art von Text ist willkommen - Artikel\,
  Kurzgeschichtensammlung\, Manga oder epische Romanreihe\; Gedruckt\,
  elektronisch\, oder Audio\; Romantasy\, wissenschaftliche Publikation\,
  oder Kochbuch - gelesen wird\, was Spaß macht\, so wie es Spaß
  macht.\n\nMehr Infos auf https://entropia.de/Lesenachmittag
LOCATION:Gewerbehof\, Steinstraße 23 \,76133 Karlsruhe
GEO:49.006649;8.4073768
ORGANIZER:mailto:Entropia e.V.
END:VEVENT
BEGIN:VEVENT
UID:107f0a36-0ffd-441f-8091-8fb46d7263ff
URL:https://karlsunruh.org/event/107f0a36-0ffd-441f-8091-8fb46d7263ff
SUMMARY:24. Gulaschprogrammiernacht
DTSTART:20260604T140000Z
DTEND:20260620T140000Z
CATEGORIES:Sonstiges\,Sonstiges
DESCRIPTION:<b>04. – 07. Juni 2026 | Hochschule für Gestaltung (HfG) |
  Lorenzstr. 15 | 76135 Karlsruhe</b>\n\n<b>Vier Tage lang erwarteten euch
  Hacken\, Gulasch\, Vorträge\, Tschunk\, Workshops\, Lounge\, Mate und
  Spaß am Gerät.</b>\n\nDieses Jahr seid ihr nicht nur die
  Teilnehmenden\, die diese Veranstaltung möglich machen\, sondern
  schlüpft in die Rolle der geschätzten Stakeholder von GPN24.de\, dem
  Superkonzern\, der alles kann. Und zwar gleichzeitig!\n\nVom
  Gulaschpalettenfernverkehr bis zur Datenfernübertragung – wir haben
  die Patterns nicht mehr nur versteckt\, wir haben sie produktisiert\,
  gelabelt und in 24-stündige Service-Zyklen gepresst. Wir laden euch
  ein\, tief in diesen Hyperkapitalismus einzutauchen\, die Flut an
  Informationen zu reiten und dabei kritisch zu hinterfragen: Brauchen wir
  wirklich für alles ein KI-DLC … eh warte\, eine Domain? (Spoiler:
  Ja!)\n\nIn einer Welt der Informationsflut bieten wir euch die logische
  Synthese: Alles über alles\, rund um die Uhr. Wir haben für jedes
  Bedürfnis die passende Schnittstelle optimiert:\n\nHunger? Gulasch24
  (Hier gulnasch ich alles!)\,\nDurst? Tschunk24 (Hier mixe ich
  alles!).\nWissen? Gulaschprogrammiernews24 (Hier erfahre ich
  alles!).\nVerzweiflung? Merch-ist-leer24 (Hier gibts nicht alles!).\nSeid
  ihr bereit für die totale Synergie? Dann kommt zur GPN24. Hier gebt ihr
  alles\, hier bekommt ihr alles – außer vielleicht Schlaf. Wir freuen
  uns auf eure Projekte\, eure Vorträge und eure Bereitschaft\, das System
  von innen heraus zu … nun ja\, zu optimieren!\n\nMehr Infos und unsere
  Spendenkampagne findet ihr hier: https://entropia.de/GPN24
LOCATION:Hochschule für Gestaltung (HfG)\, Lorenzstr. 15\, 76135 Karlsruhe
GEO:49.0020695;8.3836683
ORGANIZER:mailto:Entropia e.V.
END:VEVENT
BEGIN:VEVENT
UID:19628111-fb97-437d-bc34-cceff449ec02
URL:https://karlsunruh.org/event/19628111-fb97-437d-bc34-cceff449ec02
SUMMARY:Lesenachmittag im Entropia
DTSTART:20260614T130000Z
DTEND:20260614T150000Z
CATEGORIES:Treffen\,Kultur
DESCRIPTION:Viel macht mehr Spaß\, wenn man sich mit anderen drüber
  unterhalten kann. Also: Lies etwas und erzähl davon!\n\nWir treffen uns
  jeden 2ten und 4ten Sonntag im Monat um 15:00 (startend mit dem
  26.10.2025) und reden über's Lesen. Anders als im Buchclub lesen wir
  aber nicht alle gleichzeitig das gleiche Buch - sondern lesen\, was auch
  immer uns gerade interessiert. Oder was gerade in der Schule\, auf
  Arbeit\, oder sonstwo\, ansteht. Jede_r im eigenen Tempo\, nach eigenem
  Interesse\, ohne lange Abstimmungen und Diskussionen bevor es los
  geht.\n\nZiel des ganzen ist\, sich in gemütlicher Atmosphäre über
  (kürzlich) Gelesenes auszutauschen. Vielleicht findest du dadurch neue
  Blickwinkel auf Altbekanntes\, triffst andere Fans der deiner liebsten
  Fantasy-Charaktere\, oder entdeckst ein neues spannendes
  Forschungsfeld?\n\nJede Art von Text ist willkommen - Artikel\,
  Kurzgeschichtensammlung\, Manga oder epische Romanreihe\; Gedruckt\,
  elektronisch\, oder Audio\; Romantasy\, wissenschaftliche Publikation\,
  oder Kochbuch - gelesen wird\, was Spaß macht\, so wie es Spaß
  macht.\n\nMehr Infos auf https://entropia.de/Lesenachmittag
LOCATION:Gewerbehof\, Steinstraße 23 \,76133 Karlsruhe
GEO:49.006649;8.4073768
ORGANIZER:mailto:Entropia e.V.
END:VEVENT
BEGIN:VEVENT
UID:c02f6b75-8fc0-4780-8809-3cfca996beca
URL:https://karlsunruh.org/event/c02f6b75-8fc0-4780-8809-3cfca996beca
SUMMARY:Lesenachmittag im Entropia
DTSTART:20260628T130000Z
DTEND:20260628T150000Z
CATEGORIES:Treffen\,Kultur
DESCRIPTION:Viel macht mehr Spaß\, wenn man sich mit anderen drüber
  unterhalten kann. Also: Lies etwas und erzähl davon!\n\nWir treffen uns
  jeden 2ten und 4ten Sonntag im Monat um 15:00 (startend mit dem
  26.10.2025) und reden über's Lesen. Anders als im Buchclub lesen wir
  aber nicht alle gleichzeitig das gleiche Buch - sondern lesen\, was auch
  immer uns gerade interessiert. Oder was gerade in der Schule\, auf
  Arbeit\, oder sonstwo\, ansteht. Jede_r im eigenen Tempo\, nach eigenem
  Interesse\, ohne lange Abstimmungen und Diskussionen bevor es los
  geht.\n\nZiel des ganzen ist\, sich in gemütlicher Atmosphäre über
  (kürzlich) Gelesenes auszutauschen. Vielleicht findest du dadurch neue
  Blickwinkel auf Altbekanntes\, triffst andere Fans der deiner liebsten
  Fantasy-Charaktere\, oder entdeckst ein neues spannendes
  Forschungsfeld?\n\nJede Art von Text ist willkommen - Artikel\,
  Kurzgeschichtensammlung\, Manga oder epische Romanreihe\; Gedruckt\,
  elektronisch\, oder Audio\; Romantasy\, wissenschaftliche Publikation\,
  oder Kochbuch - gelesen wird\, was Spaß macht\, so wie es Spaß
  macht.\n\nMehr Infos auf https://entropia.de/Lesenachmittag
LOCATION:Gewerbehof\, Steinstraße 23 \,76133 Karlsruhe
GEO:49.006649;8.4073768
ORGANIZER:mailto:Entropia e.V.
END:VEVENT
BEGIN:VEVENT
UID:f4ee1dd1-5836-49a6-938e-0a23acacb740
URL:https://karlsunruh.org/event/f4ee1dd1-5836-49a6-938e-0a23acacb740
SUMMARY:Lesenachmittag im Entropia
DTSTART:20260712T130000Z
DTEND:20260712T150000Z
CATEGORIES:Treffen\,Kultur
DESCRIPTION:Viel macht mehr Spaß\, wenn man sich mit anderen drüber
  unterhalten kann. Also: Lies etwas und erzähl davon!\n\nWir treffen uns
  jeden 2ten und 4ten Sonntag im Monat um 15:00 (startend mit dem
  26.10.2025) und reden über's Lesen. Anders als im Buchclub lesen wir
  aber nicht alle gleichzeitig das gleiche Buch - sondern lesen\, was auch
  immer uns gerade interessiert. Oder was gerade in der Schule\, auf
  Arbeit\, oder sonstwo\, ansteht. Jede_r im eigenen Tempo\, nach eigenem
  Interesse\, ohne lange Abstimmungen und Diskussionen bevor es los
  geht.\n\nZiel des ganzen ist\, sich in gemütlicher Atmosphäre über
  (kürzlich) Gelesenes auszutauschen. Vielleicht findest du dadurch neue
  Blickwinkel auf Altbekanntes\, triffst andere Fans der deiner liebsten
  Fantasy-Charaktere\, oder entdeckst ein neues spannendes
  Forschungsfeld?\n\nJede Art von Text ist willkommen - Artikel\,
  Kurzgeschichtensammlung\, Manga oder epische Romanreihe\; Gedruckt\,
  elektronisch\, oder Audio\; Romantasy\, wissenschaftliche Publikation\,
  oder Kochbuch - gelesen wird\, was Spaß macht\, so wie es Spaß
  macht.\n\nMehr Infos auf https://entropia.de/Lesenachmittag
LOCATION:Gewerbehof\, Steinstraße 23 \,76133 Karlsruhe
GEO:49.006649;8.4073768
ORGANIZER:mailto:Entropia e.V.
END:VEVENT
BEGIN:VEVENT
UID:bda58532-fd00-49f0-907f-0504284e815b
URL:https://karlsunruh.org/event/bda58532-fd00-49f0-907f-0504284e815b
SUMMARY:Lesenachmittag im Entropia
DTSTART:20260726T130000Z
DTEND:20260726T150000Z
CATEGORIES:Treffen\,Kultur
DESCRIPTION:Viel macht mehr Spaß\, wenn man sich mit anderen drüber
  unterhalten kann. Also: Lies etwas und erzähl davon!\n\nWir treffen uns
  jeden 2ten und 4ten Sonntag im Monat um 15:00 (startend mit dem
  26.10.2025) und reden über's Lesen. Anders als im Buchclub lesen wir
  aber nicht alle gleichzeitig das gleiche Buch - sondern lesen\, was auch
  immer uns gerade interessiert. Oder was gerade in der Schule\, auf
  Arbeit\, oder sonstwo\, ansteht. Jede_r im eigenen Tempo\, nach eigenem
  Interesse\, ohne lange Abstimmungen und Diskussionen bevor es los
  geht.\n\nZiel des ganzen ist\, sich in gemütlicher Atmosphäre über
  (kürzlich) Gelesenes auszutauschen. Vielleicht findest du dadurch neue
  Blickwinkel auf Altbekanntes\, triffst andere Fans der deiner liebsten
  Fantasy-Charaktere\, oder entdeckst ein neues spannendes
  Forschungsfeld?\n\nJede Art von Text ist willkommen - Artikel\,
  Kurzgeschichtensammlung\, Manga oder epische Romanreihe\; Gedruckt\,
  elektronisch\, oder Audio\; Romantasy\, wissenschaftliche Publikation\,
  oder Kochbuch - gelesen wird\, was Spaß macht\, so wie es Spaß
  macht.\n\nMehr Infos auf https://entropia.de/Lesenachmittag
LOCATION:Gewerbehof\, Steinstraße 23 \,76133 Karlsruhe
GEO:49.006649;8.4073768
ORGANIZER:mailto:Entropia e.V.
END:VEVENT
BEGIN:VEVENT
UID:d6d38f59-a40c-412e-a6bc-9cea316af6bb
URL:https://karlsunruh.org/event/d6d38f59-a40c-412e-a6bc-9cea316af6bb
SUMMARY:Lesenachmittag im Entropia
DTSTART:20260809T130000Z
DTEND:20260809T150000Z
CATEGORIES:Treffen\,Kultur
DESCRIPTION:Viel macht mehr Spaß\, wenn man sich mit anderen drüber
  unterhalten kann. Also: Lies etwas und erzähl davon!\n\nWir treffen uns
  jeden 2ten und 4ten Sonntag im Monat um 15:00 (startend mit dem
  26.10.2025) und reden über's Lesen. Anders als im Buchclub lesen wir
  aber nicht alle gleichzeitig das gleiche Buch - sondern lesen\, was auch
  immer uns gerade interessiert. Oder was gerade in der Schule\, auf
  Arbeit\, oder sonstwo\, ansteht. Jede_r im eigenen Tempo\, nach eigenem
  Interesse\, ohne lange Abstimmungen und Diskussionen bevor es los
  geht.\n\nZiel des ganzen ist\, sich in gemütlicher Atmosphäre über
  (kürzlich) Gelesenes auszutauschen. Vielleicht findest du dadurch neue
  Blickwinkel auf Altbekanntes\, triffst andere Fans der deiner liebsten
  Fantasy-Charaktere\, oder entdeckst ein neues spannendes
  Forschungsfeld?\n\nJede Art von Text ist willkommen - Artikel\,
  Kurzgeschichtensammlung\, Manga oder epische Romanreihe\; Gedruckt\,
  elektronisch\, oder Audio\; Romantasy\, wissenschaftliche Publikation\,
  oder Kochbuch - gelesen wird\, was Spaß macht\, so wie es Spaß
  macht.\n\nMehr Infos auf https://entropia.de/Lesenachmittag
LOCATION:Gewerbehof\, Steinstraße 23 \,76133 Karlsruhe
GEO:49.006649;8.4073768
ORGANIZER:mailto:Entropia e.V.
END:VEVENT
BEGIN:VEVENT
UID:68eb9a42-1c5c-4b8a-a001-bf71db3421cb
URL:https://karlsunruh.org/event/68eb9a42-1c5c-4b8a-a001-bf71db3421cb
SUMMARY:Lesenachmittag im Entropia
DTSTART:20260823T130000Z
DTEND:20260823T150000Z
CATEGORIES:Treffen\,Kultur
DESCRIPTION:Viel macht mehr Spaß\, wenn man sich mit anderen drüber
  unterhalten kann. Also: Lies etwas und erzähl davon!\n\nWir treffen uns
  jeden 2ten und 4ten Sonntag im Monat um 15:00 (startend mit dem
  26.10.2025) und reden über's Lesen. Anders als im Buchclub lesen wir
  aber nicht alle gleichzeitig das gleiche Buch - sondern lesen\, was auch
  immer uns gerade interessiert. Oder was gerade in der Schule\, auf
  Arbeit\, oder sonstwo\, ansteht. Jede_r im eigenen Tempo\, nach eigenem
  Interesse\, ohne lange Abstimmungen und Diskussionen bevor es los
  geht.\n\nZiel des ganzen ist\, sich in gemütlicher Atmosphäre über
  (kürzlich) Gelesenes auszutauschen. Vielleicht findest du dadurch neue
  Blickwinkel auf Altbekanntes\, triffst andere Fans der deiner liebsten
  Fantasy-Charaktere\, oder entdeckst ein neues spannendes
  Forschungsfeld?\n\nJede Art von Text ist willkommen - Artikel\,
  Kurzgeschichtensammlung\, Manga oder epische Romanreihe\; Gedruckt\,
  elektronisch\, oder Audio\; Romantasy\, wissenschaftliche Publikation\,
  oder Kochbuch - gelesen wird\, was Spaß macht\, so wie es Spaß
  macht.\n\nMehr Infos auf https://entropia.de/Lesenachmittag
LOCATION:Gewerbehof\, Steinstraße 23 \,76133 Karlsruhe
GEO:49.006649;8.4073768
ORGANIZER:mailto:Entropia e.V.
END:VEVENT
BEGIN:VEVENT
UID:d85b6830-9297-4d77-9104-23e0e2ee37ec
URL:https://karlsunruh.org/event/d85b6830-9297-4d77-9104-23e0e2ee37ec
SUMMARY:Lesenachmittag im Entropia
DTSTART:20260913T130000Z
DTEND:20260913T150000Z
CATEGORIES:Treffen\,Kultur
DESCRIPTION:Viel macht mehr Spaß\, wenn man sich mit anderen drüber
  unterhalten kann. Also: Lies etwas und erzähl davon!\n\nWir treffen uns
  jeden 2ten und 4ten Sonntag im Monat um 15:00 (startend mit dem
  26.10.2025) und reden über's Lesen. Anders als im Buchclub lesen wir
  aber nicht alle gleichzeitig das gleiche Buch - sondern lesen\, was auch
  immer uns gerade interessiert. Oder was gerade in der Schule\, auf
  Arbeit\, oder sonstwo\, ansteht. Jede_r im eigenen Tempo\, nach eigenem
  Interesse\, ohne lange Abstimmungen und Diskussionen bevor es los
  geht.\n\nZiel des ganzen ist\, sich in gemütlicher Atmosphäre über
  (kürzlich) Gelesenes auszutauschen. Vielleicht findest du dadurch neue
  Blickwinkel auf Altbekanntes\, triffst andere Fans der deiner liebsten
  Fantasy-Charaktere\, oder entdeckst ein neues spannendes
  Forschungsfeld?\n\nJede Art von Text ist willkommen - Artikel\,
  Kurzgeschichtensammlung\, Manga oder epische Romanreihe\; Gedruckt\,
  elektronisch\, oder Audio\; Romantasy\, wissenschaftliche Publikation\,
  oder Kochbuch - gelesen wird\, was Spaß macht\, so wie es Spaß
  macht.\n\nMehr Infos auf https://entropia.de/Lesenachmittag
LOCATION:Gewerbehof\, Steinstraße 23 \,76133 Karlsruhe
GEO:49.006649;8.4073768
ORGANIZER:mailto:Entropia e.V.
END:VEVENT
BEGIN:VEVENT
UID:c5b6b781-12df-48a2-bfdc-c9271086a5a8
URL:https://karlsunruh.org/event/c5b6b781-12df-48a2-bfdc-c9271086a5a8
SUMMARY:Lesenachmittag im Entropia
DTSTART:20260927T130000Z
DTEND:20260927T150000Z
CATEGORIES:Treffen\,Kultur
DESCRIPTION:Viel macht mehr Spaß\, wenn man sich mit anderen drüber
  unterhalten kann. Also: Lies etwas und erzähl davon!\n\nWir treffen uns
  jeden 2ten und 4ten Sonntag im Monat um 15:00 (startend mit dem
  26.10.2025) und reden über's Lesen. Anders als im Buchclub lesen wir
  aber nicht alle gleichzeitig das gleiche Buch - sondern lesen\, was auch
  immer uns gerade interessiert. Oder was gerade in der Schule\, auf
  Arbeit\, oder sonstwo\, ansteht. Jede_r im eigenen Tempo\, nach eigenem
  Interesse\, ohne lange Abstimmungen und Diskussionen bevor es los
  geht.\n\nZiel des ganzen ist\, sich in gemütlicher Atmosphäre über
  (kürzlich) Gelesenes auszutauschen. Vielleicht findest du dadurch neue
  Blickwinkel auf Altbekanntes\, triffst andere Fans der deiner liebsten
  Fantasy-Charaktere\, oder entdeckst ein neues spannendes
  Forschungsfeld?\n\nJede Art von Text ist willkommen - Artikel\,
  Kurzgeschichtensammlung\, Manga oder epische Romanreihe\; Gedruckt\,
  elektronisch\, oder Audio\; Romantasy\, wissenschaftliche Publikation\,
  oder Kochbuch - gelesen wird\, was Spaß macht\, so wie es Spaß
  macht.\n\nMehr Infos auf https://entropia.de/Lesenachmittag
LOCATION:Gewerbehof\, Steinstraße 23 \,76133 Karlsruhe
GEO:49.006649;8.4073768
ORGANIZER:mailto:Entropia e.V.
END:VEVENT
BEGIN:VEVENT
UID:41f77d8c-a5ca-41f8-a688-71122b59c938
URL:https://karlsunruh.org/event/41f77d8c-a5ca-41f8-a688-71122b59c938
SUMMARY:Lesenachmittag im Entropia
DTSTART:20261011T130000Z
DTEND:20261011T150000Z
CATEGORIES:Treffen\,Kultur
DESCRIPTION:Viel macht mehr Spaß\, wenn man sich mit anderen drüber
  unterhalten kann. Also: Lies etwas und erzähl davon!\n\nWir treffen uns
  jeden 2ten und 4ten Sonntag im Monat um 15:00 (startend mit dem
  26.10.2025) und reden über's Lesen. Anders als im Buchclub lesen wir
  aber nicht alle gleichzeitig das gleiche Buch - sondern lesen\, was auch
  immer uns gerade interessiert. Oder was gerade in der Schule\, auf
  Arbeit\, oder sonstwo\, ansteht. Jede_r im eigenen Tempo\, nach eigenem
  Interesse\, ohne lange Abstimmungen und Diskussionen bevor es los
  geht.\n\nZiel des ganzen ist\, sich in gemütlicher Atmosphäre über
  (kürzlich) Gelesenes auszutauschen. Vielleicht findest du dadurch neue
  Blickwinkel auf Altbekanntes\, triffst andere Fans der deiner liebsten
  Fantasy-Charaktere\, oder entdeckst ein neues spannendes
  Forschungsfeld?\n\nJede Art von Text ist willkommen - Artikel\,
  Kurzgeschichtensammlung\, Manga oder epische Romanreihe\; Gedruckt\,
  elektronisch\, oder Audio\; Romantasy\, wissenschaftliche Publikation\,
  oder Kochbuch - gelesen wird\, was Spaß macht\, so wie es Spaß
  macht.\n\nMehr Infos auf https://entropia.de/Lesenachmittag
LOCATION:Gewerbehof\, Steinstraße 23 \,76133 Karlsruhe
GEO:49.006649;8.4073768
ORGANIZER:mailto:Entropia e.V.
END:VEVENT
END:VCALENDAR
