BEGIN:VCALENDAR
VERSION:2.0
PRODID:karlsunruh.org
METHOD:REQUEST
BEGIN:VEVENT
UID:762e5fa6-629a-4c72-ba22-79835a527edf
URL:https://karlsunruh.org/event/762e5fa6-629a-4c72-ba22-79835a527edf
SUMMARY:Widerstands-Kollektiv - offenes Plenum
DTSTART:20260423T170000Z
DTEND:20260423T190000Z
CATEGORIES:Treffen\,Klimagerechtigkeit
DESCRIPTION:offenes Plenum des Widerstands-Kollektiv Karlsruhe\n\nab 19:00
  vegane Küfa\, danach offenes Plenum\n\nEmail:
  karlsruhe@widerstands-kollektiv.org\n\nLinktree:
  https://linktr.ee/WiK_Karlsruhe
LOCATION:Zähringerstraße 10\, 1. OG
GEO:49.0085922;8.4141338
ORGANIZER:mailto:Widerstands-Kollektiv Karlsruhe
END:VEVENT
BEGIN:VEVENT
UID:3a215481-876b-4018-a5ff-2be5f75b4c56
URL:https://karlsunruh.org/event/3a215481-876b-4018-a5ff-2be5f75b4c56
SUMMARY:Widerstands-Kollektiv - Onbording/ Vortrag
DTSTART:20260428T170000Z
DTEND:20260428T190000Z
CATEGORIES:Vortrag\,Klimagerechtigkeit
DESCRIPTION:Lerne das Widerstands-Kollektiv Karlsruhe bei einem Vortrag
  kennen. Höre dir an was uns was uns bewegt und wie du mitmachen
  kannst!\n\n\nWir haben nichts zu verlieren und eine Welt zu gewinnen -
  lasst uns damit anfangen!\n\n\nEmail:
  karlsruhe@widerstands-kollektiv.org\n\nLinktree:
  https://linktr.ee/WiK_Karlsruhe
LOCATION:p8\, Schauenburgstraße 5\, 76135 Karlsruhe
GEO:48.9887950677221;8.372030230380888
ORGANIZER:mailto:Widerstands-Kollektiv Karlsruhe
END:VEVENT
BEGIN:VEVENT
UID:79e9bb71-8e4a-43eb-8ca6-352bc4516d8d
URL:https://karlsunruh.org/event/79e9bb71-8e4a-43eb-8ca6-352bc4516d8d
SUMMARY:Widerstands-Kollektiv - offenes Plenum
DTSTART:20260507T170000Z
DTEND:20260507T190000Z
CATEGORIES:Treffen\,Klimagerechtigkeit
DESCRIPTION:offenes Plenum des Widerstands-Kollektiv Karlsruhe\n\nab 19:00
  vegane Küfa\, danach offenes Plenum\n\nEmail:
  karlsruhe@widerstands-kollektiv.org\n\nLinktree:
  https://linktr.ee/WiK_Karlsruhe
LOCATION:Zähringerstraße 10\, 1. OG
GEO:49.0085922;8.4141338
ORGANIZER:mailto:Widerstands-Kollektiv Karlsruhe
END:VEVENT
BEGIN:VEVENT
UID:85e6c100-440a-4c49-9543-9b78523c32ea
URL:https://karlsunruh.org/event/85e6c100-440a-4c49-9543-9b78523c32ea
SUMMARY:Widerstands-Kollektiv - offenes Plenum
DTSTART:20260512T170000Z
DTEND:20260512T190000Z
CATEGORIES:Treffen\,Klimagerechtigkeit
DESCRIPTION:offenes Plenum des Widerstands-Kollektiv Karlsruhe\n\nab 19:00
  vegane Küfa\, danach offenes Plenum\n\nEmail:
  karlsruhe@widerstands-kollektiv.org\n\nLinktree:
  https://linktr.ee/WiK_Karlsruhe
LOCATION:Zähringerstraße 10\, 1. OG
GEO:49.0085922;8.4141338
ORGANIZER:mailto:Widerstands-Kollektiv Karlsruhe
END:VEVENT
BEGIN:VEVENT
UID:1fcf26a5-6de8-4a18-baa6-fda6946c3ccf
URL:https://karlsunruh.org/event/1fcf26a5-6de8-4a18-baa6-fda6946c3ccf
SUMMARY:Widerstands-Kollektiv - offenes Plenum
DTSTART:20260521T170000Z
DTEND:20260521T190000Z
CATEGORIES:Treffen\,Klimagerechtigkeit
DESCRIPTION:offenes Plenum des Widerstands-Kollektiv Karlsruhe\n\nab 19:00
  vegane Küfa\, danach offenes Plenum\n\nEmail:
  karlsruhe@widerstands-kollektiv.org\n\nLinktree:
  https://linktr.ee/WiK_Karlsruhe
LOCATION:Zähringerstraße 10\, 1. OG
GEO:49.0085922;8.4141338
ORGANIZER:mailto:Widerstands-Kollektiv Karlsruhe
END:VEVENT
BEGIN:VEVENT
UID:7479267f-3da8-428a-9f15-71b3fd10f214
URL:https://karlsunruh.org/event/7479267f-3da8-428a-9f15-71b3fd10f214
SUMMARY:Widerstands-Kollektiv - offenes Plenum
DTSTART:20260526T170000Z
DTEND:20260526T190000Z
CATEGORIES:Treffen\,Klimagerechtigkeit
DESCRIPTION:offenes Plenum des Widerstands-Kollektiv Karlsruhe\n\nab 19:00
  vegane Küfa\, danach offenes Plenum\n\nEmail:
  karlsruhe@widerstands-kollektiv.org\n\nLinktree:
  https://linktr.ee/WiK_Karlsruhe
LOCATION:Zähringerstraße 10\, 1. OG
GEO:49.0085922;8.4141338
ORGANIZER:mailto:Widerstands-Kollektiv Karlsruhe
END:VEVENT
BEGIN:VEVENT
UID:2c1b7609-8aa1-458f-863e-028542a8e934
URL:https://karlsunruh.org/event/2c1b7609-8aa1-458f-863e-028542a8e934
SUMMARY:Widerstands-Kollektiv - offenes Plenum
DTSTART:20260604T170000Z
DTEND:20260604T190000Z
CATEGORIES:Treffen\,Klimagerechtigkeit
DESCRIPTION:offenes Plenum des Widerstands-Kollektiv Karlsruhe\n\nab 19:00
  vegane Küfa\, danach offenes Plenum\n\nEmail:
  karlsruhe@widerstands-kollektiv.org\n\nLinktree:
  https://linktr.ee/WiK_Karlsruhe
LOCATION:Zähringerstraße 10\, 1. OG
GEO:49.0085922;8.4141338
ORGANIZER:mailto:Widerstands-Kollektiv Karlsruhe
END:VEVENT
END:VCALENDAR
