BEGIN:VCALENDAR
VERSION:2.0
PRODID:karlsunruh.org
METHOD:REQUEST
BEGIN:VEVENT
UID:c6df7800-df57-49fc-b2b5-62e3a80e2769
URL:https://karlsunruh.org/event/c6df7800-df57-49fc-b2b5-62e3a80e2769
SUMMARY:Offenes Antifaschistisches Treffen Karlsruhe
DTSTART:20260507T170000Z
DTEND:20260507T190000Z
CATEGORIES:Treffen\,Antifaschismus
DESCRIPTION:Das Offene Antifaschistische Treffen Karlsruhe (OAT) ist ein
  Anlaufpunkt für alle die gegen Nazis\, Faschisten und reaktionäre Hetze
  aktiv werden wollen oder es schon sind.\n\nWir treffen uns einmal
  monatlich um uns über rechte Aktivitäten in Karlsruhe und der Region
  auszutauschen und Widerstand dagegen zu organisieren.\n\nDenkmuster wie
  Antisemitismus\, Nationalismus\, Islamophobie und Rassismus finden sich
  nicht nur bei Rechten und Faschisten\, sondern sind breit in dieser
  Gesellschaft verankert.\n\nUm dem etwas entgegen zu setzen möchten wir
  gemeinsam eine antifaschistische Praxis entwickeln.\nWir leisten
  entschiedenen Widerstand bei rechten Aktivitäten und Veranstaltungen von
  Nazis und der AfD\, beteiligen uns an Gegenprotesten bei regionalen und
  bundesweiten Naziaufmärschen\, organisieren Veranstaltungen\, eigene
  politische Kampagnen und leisten Aufklärungsarbeit.\n\nMöchtest auch du
  dich gegen Nazis\, Faschisten und reaktionäre Hetze engagieren?\n\nDann
  komm zu unserem Offenen Treffen!\n\nWann? Jeden ersten Donnerstag im
  Monat um 19 Uhr\n\nWo? Im Linken Zentrum Barrio137 in der Luisenstraße
  31 in Karlsruhe\n\nBring deine Freund:innen mit.\n\nAlle Zusammen gegen
  den Faschismus!
LOCATION:Barrio 137\, Luisenstraße 31\, 76137 Karlsruhe
GEO:49.00084565;8.405520455565298
ORGANIZER:mailto:OAT Karlsruhe
END:VEVENT
BEGIN:VEVENT
UID:41268bc1-5816-4a2b-bd2d-54da40419924
URL:https://karlsunruh.org/event/41268bc1-5816-4a2b-bd2d-54da40419924
SUMMARY:Offene Beratung
DTSTART:20260521T163000Z
DTEND:20260521T173000Z
CATEGORIES:Beratung\,Repression
DESCRIPTION:Ihr habt Vorladungen von der Polizei oder Staatsanwaltschaft\,
  einen Strafbefehl oder andere Briefe der Repressionbehörden erhalten?
  Ihr seid bei einer Aktion in Gewahrsam genommen worden und fragt euch was
  nun auf euch zukommt oder habt andere Fragen? Dann kommt zu unserem
  monatlichen Beratungstermin und stellt eure Fragen. Wir werden euch
  entsprechend unterstützen!\n\n*Als eure lokale Rote-Hilfe-Struktur
  bieten wir jeden 3. Donnerstag im Monat in der Luisenstr. 31 solidarische
  Beratung für Betroffene staatlicher Repression an. Wir heißen
  strömungsübergreifend linke Aktivisti willkommen\, die aufgrund ihrer
  politischen Betätigung verfolgt werden.\nUnsere Unterstützung gilt auch
  Nicht-Mitgliedern\; natürlich sagen wir aber ausdrücklich: Werdet
  Mitglied!*
LOCATION:Barrio 137\, Luisenstraße 31\, 76137 Karlsruhe
GEO:49.00084565;8.405520455565298
ORGANIZER:mailto:Rote Hilfe Karlsruhe
END:VEVENT
BEGIN:VEVENT
UID:02b22020-393b-4c79-a7d5-5d3e07cfde70
URL:https://karlsunruh.org/event/02b22020-393b-4c79-a7d5-5d3e07cfde70
SUMMARY:Offenes Antifaschistisches Treffen Karlsruhe
DTSTART:20260604T170000Z
DTEND:20260604T190000Z
CATEGORIES:Treffen\,Antifaschismus
DESCRIPTION:Das Offene Antifaschistische Treffen Karlsruhe (OAT) ist ein
  Anlaufpunkt für alle die gegen Nazis\, Faschisten und reaktionäre Hetze
  aktiv werden wollen oder es schon sind.\n\nWir treffen uns einmal
  monatlich um uns über rechte Aktivitäten in Karlsruhe und der Region
  auszutauschen und Widerstand dagegen zu organisieren.\n\nDenkmuster wie
  Antisemitismus\, Nationalismus\, Islamophobie und Rassismus finden sich
  nicht nur bei Rechten und Faschisten\, sondern sind breit in dieser
  Gesellschaft verankert.\n\nUm dem etwas entgegen zu setzen möchten wir
  gemeinsam eine antifaschistische Praxis entwickeln.\nWir leisten
  entschiedenen Widerstand bei rechten Aktivitäten und Veranstaltungen von
  Nazis und der AfD\, beteiligen uns an Gegenprotesten bei regionalen und
  bundesweiten Naziaufmärschen\, organisieren Veranstaltungen\, eigene
  politische Kampagnen und leisten Aufklärungsarbeit.\n\nMöchtest auch du
  dich gegen Nazis\, Faschisten und reaktionäre Hetze engagieren?\n\nDann
  komm zu unserem Offenen Treffen!\n\nWann? Jeden ersten Donnerstag im
  Monat um 19 Uhr\n\nWo? Im Linken Zentrum Barrio137 in der Luisenstraße
  31 in Karlsruhe\n\nBring deine Freund:innen mit.\n\nAlle Zusammen gegen
  den Faschismus!
LOCATION:Barrio 137\, Luisenstraße 31\, 76137 Karlsruhe
GEO:49.00084565;8.405520455565298
ORGANIZER:mailto:OAT Karlsruhe
END:VEVENT
END:VCALENDAR
