BEGIN:VCALENDAR
VERSION:2.0
PRODID:karlsunruh.org
METHOD:REQUEST
BEGIN:VEVENT
UID:4aba3643-5fdd-4d7f-8944-d248ea3b1e4e
URL:https://karlsunruh.org/event/4aba3643-5fdd-4d7f-8944-d248ea3b1e4e
SUMMARY:Beyond the Infinite Two Minutes
DTSTART:20260423T160000Z
DTEND:20260423T180000Z
CATEGORIES:Film\,Sonstiges
DESCRIPTION:20:00Tickets\nCafé-Inhaber Kato entdeckt\, dass der Fernseher
  in seinem Laden und sein Computermonitor in der Wohnung darüber durch
  eine Zeitverschiebung verbunden sind. Mit Hilfe dieser Schaltung kann man
  in die Zukunft schauen – allerdings nur für zwei Minuten. Katos
  verrückte Freunde setzen alles daran\, dieses revolutionäre Phänomen
  für ihre Zwecke zu nutzen. Die Konsequenzen sind verblüffend und
  keinesfalls ungefährlich.\nDie verrückteste Science-Fiction-Komödie
  der letzten Jahre und zudem genial inszeniert: Die wahnwitzige
  Zeitreisegeschichte wird ohne Schnitte und in Echtzeit
  erzählt.Veranstaltung in Kooperation mit vhs
  Karlsruhe.\n\nhttps://kinemathek-karlsruhe.de/film/beyond-the-infinite-tw
 o-minutes/
LOCATION:Kinemathek\, Kaiserpassage 6 76133 Karlsruhe
GEO:49.010608500000004;8.396970535255974
ORGANIZER:mailto:Kinemathek
END:VEVENT
BEGIN:VEVENT
UID:cf58fdc1-9b30-4896-a8f4-fa79f0216f24
URL:https://karlsunruh.org/event/cf58fdc1-9b30-4896-a8f4-fa79f0216f24
SUMMARY:Atomkraftwerke im Krieg
DTSTART:20260426T150000Z
DTEND:20260426T170000Z
CATEGORIES:Film\,Klimagerechtigkeit
DESCRIPTION:Die Ukraine steht im Winter 2024/2025 vor ihrem bisher
  schlimmsten Winter. Bomben und Drohnen zerstören die Infrastruktur und
  gefährden die Sicherheit von Kernkraftwerken. Hinzu kommt dieBesetzung
  durch das russische Militär. Geflüchtete Kraftwerksmitarbeiter
  berichten von der trostlosen Lage im besetzten Kernkraftwerk
  Saporischschja. Dieser fesselndeDokumentarfilm enthüllt die
  außergewöhnlichen Geschichten des unerbittlichen Kampfes\, die
  Ukrainevor der nächsten Atomkatastrophe zu bewahren. Inwieweit sind die
  strengen Sicherheitsvorkehrungen von Saporischschja\, Europas größtem
  Kernkraftwerk\, dem Krieg zum Opfer gefallen? Werden Sie Zeugegeheimer
  Raketenangriffssimulationen und erhalten Sie exklusive Einblicke aus
  erster Hand in die Lage in Tschernobyl während der russischen
  Besatzung.\n\nhttps://kinemathek-karlsruhe.de/film/atomkraftwerke-im-krie
 g/
LOCATION:Kinemathek\, Kaiserpassage 6 76133 Karlsruhe
GEO:49.010608500000004;8.396970535255974
ORGANIZER:mailto:Kinemathek
END:VEVENT
BEGIN:VEVENT
UID:c3cf4d4f-26a7-4de1-871b-090aa18014f0
URL:https://karlsunruh.org/event/c3cf4d4f-26a7-4de1-871b-090aa18014f0
SUMMARY:Los sueños que compartimos
DTSTART:20260429T170000Z
DTEND:20260429T190000Z
CATEGORIES:Film\,Klimagerechtigkeit
DESCRIPTION:Wir träumen von einer anderen\, möglichen Welt\, in der wir
  zu einem bewussten Umgang mit dem Leben erwacht sind. Wenn wir uns in ein
  utopisches Jahr 2050 versetzen\, blicken wir rückblickend auf einige
  Ereignisse\, die bereits stattfinden\, um dieses Ziel zu erreichen: die
  Organisation der Gemeinschaften und die Vernetzung von
  Widerstandsbewegungen auf der ganzen Welt\, ausgehend von der
  transatlantischen Reise der zapatistischen
  Maya-Gemeinschaften.\n\nAnschließend Filmgespräch mit der Filmemacherin
  Valentina Leduc und Aktivis*innen aus dem
  Film.\n\nhttps://kinemathek-karlsruhe.de/film/los-suenos-que-compartimos/
LOCATION:Kinemathek\, Kaiserpassage 6 76133 Karlsruhe
GEO:49.010608500000004;8.396970535255974
ORGANIZER:mailto:Kinemathek
END:VEVENT
BEGIN:VEVENT
UID:e9e02d84-c16a-4606-bd5f-16bc74166d31
URL:https://karlsunruh.org/event/e9e02d84-c16a-4606-bd5f-16bc74166d31
SUMMARY:The Only One – Elizabeth
DTSTART:20260502T150000Z
DTEND:20260502T170000Z
CATEGORIES:Film\,Sonstiges
DESCRIPTION:Elizabeth\, eine aus ihrer Heimat vertriebene Armenierin\, wird
  2011 brutal ermordet. Ihr Tod wird zum Ausgangspunkt einer filmischen
  Suche\, in der sich die Erinnerungen ihrer Nichte Valo und der
  Filmemacherin mit Elizabeths Lebensgeschichte verweben. Eine Erzählung
  über drei Generationen von Frauen – über Verlust\, Erinnerung und
  Widerstand.\nKooperation mit der Gesellschaft für bedrohte
  Völker.\n\nhttps://kinemathek-karlsruhe.de/film/the-only-one-elizabeth/
LOCATION:Kinemathek\, Kaiserpassage 6 76133 Karlsruhe
GEO:49.010608500000004;8.396970535255974
ORGANIZER:mailto:Kinemathek
END:VEVENT
BEGIN:VEVENT
UID:0471da24-4921-49bd-9854-e10fee57d6f6
URL:https://karlsunruh.org/event/0471da24-4921-49bd-9854-e10fee57d6f6
SUMMARY:Der lange Februar
DTSTART:20260509T173000Z
DTEND:20260509T193000Z
CATEGORIES:Film\,Sonstiges
DESCRIPTION:Der lange Februar dokumentiert den russischen Überfall auf die
  Ukraine am 24. Februar 2022 und die darauffolgende Besatzung von Butscha.
  Er zeigt\, wie die Einwohnerinnen und Einwohner während der Besatzung
  Hunger\, Durst und Kälte überstanden. Eine der dokumentierten
  Geschichten\, handelt vom Chor der St.-Andrij-Kirche. Russische Soldaten
  töteten einen Sänger\, sowie seine gesamte Familie und Nachbarn. Der
  Film erzählt u.a. die tragische Geschichte hinter den Morden – und wie
  Überlebende der Familie heute mit dem Trauma leben müssen. Der Film
  zeigt auch die bisher unbekannte Geschichte eines ukrainischen
  Polizisten\, der sogar noch während der russischen Besatzung in Butscha
  Dienst tat.\nBesonders eindrücklich ist der Zugang durch Privataufnahmen
  aus Butscha\, die Regisseur Michael Stadnik über fast drei Jahre hinweg
  recherchiert und gesichtet hat. Diese persönlichen Perspektiven
  vermitteln den Alltag unter Gewalt\, Angst und Okkupation auf
  unmittelbare Weise. Darunter ist auch bisher unveröffentlichtes
  Filmmaterial.\nStadnik hat selbst Verwandte in der Nachbarstadt Butschas
  und es waren seine persönlichen Verbindungen\, die einen bisher
  einzigartigen Blick auf die Realität unter der russischen Besatzung
  möglich machen.\nDer Filmabend wird vom Deutsch-Ukrainischen Verein (UV
  e.V.„Ukrainer in Karlsruhe“ koordiniert. Der Verein vereint Menschen
  verschiedener Nationalitäten aus der Region Baden\, die sich mit der
  Ukraine verbunden fühlen. Er engagiert sich für den kulturellen und
  bildungsbezogenen Austausch zwischen Deutschland und der Ukraine sowie
  für die Unterstützung der Ukraine und
  Geflüchteter.https://ukrainer-in-karlsruhe.org\n\nhttps://kinemathek-kar
 lsruhe.de/film/der-lange-februar/
LOCATION:Kinemathek\, Kaiserpassage 6 76133 Karlsruhe
GEO:49.010608500000004;8.396970535255974
ORGANIZER:mailto:Kinemathek
END:VEVENT
BEGIN:VEVENT
UID:f82a8e49-ee0e-42f1-98e5-ffd4e3cd0f6e
URL:https://karlsunruh.org/event/f82a8e49-ee0e-42f1-98e5-ffd4e3cd0f6e
SUMMARY:Aufbruch – Prostitution überwinden
DTSTART:20260519T170000Z
DTEND:20260519T190000Z
CATEGORIES:Film\,Sonstiges
DESCRIPTION:Ronja hat sich nach dem Ausstieg aus der Prostitution\, in der
  sie fast 10 Jahre in Voll- und Teilzeit tätig war\, für feministischen
  Aktivismus und Aufklärung\, im Sinne von Entmystifizierung der
  Prostitution\, entschieden. Sie vertritt das Netzwerk Ella unter anderem
  mit öffentlichen Redebeiträgen. Im Film erzählt sie ihre
  Geschichte.Dieser Dokumentarfilm erzählt die Geschichten von Frauen\,
  die maßgeblich an der Abolitionismusdiskussion (Abolitionismus =
  Abschaffung der Sklaverei) in Deutschland beteiligt sind und sie
  politisch wie gesellschaftlich beeinflussen. Huschke Mau und Manuela
  Schon (politische Aktivistinnen und Autorinnen) verfolgen einen
  radikal-feministischen Ansatz\, der uns zu einer Vision von einer
  Gesellschaft der Solidarität führt\, lokal wie international. Zu einer
  Gesellschaft des Verstehens\, der Empathie und gegenseitigen Anerkennung.
  Weitere Experten und Prostitutionsgegnerinnen kommen zu Wort sowie ein
  ehemaliger “Freier”\, der anonym bleibt.\nIn Kooperation mit BFI
  Durlach.\n\nhttps://kinemathek-karlsruhe.de/film/aufbruch-prostitution-ue
 berwinden/
LOCATION:Kinemathek\, Kaiserpassage 6 76133 Karlsruhe
GEO:49.010608500000004;8.396970535255974
ORGANIZER:mailto:Kinemathek
END:VEVENT
BEGIN:VEVENT
UID:aa87d6a9-8369-49f0-922a-195f514a14c4
URL:https://karlsunruh.org/event/aa87d6a9-8369-49f0-922a-195f514a14c4
SUMMARY:Moria Six
DTSTART:20260521T170000Z
DTEND:20260521T190000Z
CATEGORIES:Film\,Sonstiges
DESCRIPTION:Nachdem ein Feuer das Camp Moria im September 2020 komplett
  vernichtet hatte\, wurde es gespenstisch still. Nicht nur vor Ort\,
  sondern auch im öffentlichen Diskurs. Weder die menschenrechtswidrigen
  Bedingungen in den weiteren Lagern an den Außengrenzen Europas noch die
  zahllosen Pushbacks im Mittelmeer schienen die Allgemeinheit näher zu
  beschäftigen. Auch die Verhaftung der sechs Jugendlichen\, die man der
  Brandstiftung bezichtigte\, blieb ohne weithin hörbares Echo – obwohl
  schon ein zweiter Blick auf die Umstände der Ermittlungen und den
  folgenden Strafprozess das Vorgehen der griechischen Justiz als
  fragwürdig offenbarte. Ganz zu schweigen von der zugrunde liegenden
  Flüchtlingspolitik der Europäischen Union.Jennifer Mallmann wagt mit
  ihrem Film diesen zweiten Blick. Im Zentrum steht ihr Briefwechsel mit
  Hassan\, einem der verurteilten Jugendlichen\, der ihr aus dem Gefängnis
  von seinem Alltag\, seinen Wünschen und Ängsten berichtet. Ruhige\,
  exakt kadrierte Bilder dokumentieren „Normalität“ an den Rändern
  der Festung Europa. Sie zeigen\, wie strategische Abschottung und die
  damit einhergehende strukturelle Ausgrenzung funktionieren. Wer wissen
  will\, wie sich unsere Staatengemeinschaft ihre Zukunft vorstellt\, muss
  nur die neu errichteten\, futuristischen Hochsicherheitslager betrachten.
  Dort werden die Ankommenden behandelt wie Menschen\, die schwere
  Verbrechen begangen
  haben.\n\nhttps://kinemathek-karlsruhe.de/film/moria-six/
LOCATION:Kinemathek\, Kaiserpassage 6 76133 Karlsruhe
GEO:49.010608500000004;8.396970535255974
ORGANIZER:mailto:Kinemathek
END:VEVENT
BEGIN:VEVENT
UID:7389f603-8381-451d-ba4a-febea68eddf8
URL:https://karlsunruh.org/event/7389f603-8381-451d-ba4a-febea68eddf8
SUMMARY:Das Gewicht der Welt  – Naturwissenschaften in Zeiten des
  Klimawandels
DTSTART:20260527T170000Z
DTEND:20260527T190000Z
CATEGORIES:Film\,Klimagerechtigkeit
DESCRIPTION:Schon als Kinder haben sie davon geträumt\, das ewige Eis der
  Arktis zu untersuchen\, den Weltraum zu erforschen und zu verstehen\, wie
  Leben entsteht. Heute untersucht Maria am Alfred-Wegener-Institut
  tausende Jahre altes Eis. Sebastian lehrt und forscht an der Universität
  an Polymeren und Nana erforscht an der Berliner Charité biologische
  Grundlagen des Zellstoffwechsel. Der Klimawandel überschattet ihre
  Arbeit: Als Naturwissenschaftler:innen sollen sie sachlich sein\, es
  gilt: Fakten statt Gefühle. Der Film zeigt wie sich Maria\, Sebastian
  und Nana den bedrohlichen Fakten ihrer Forschung über den Klimawandel
  stellen und gesellschaftliche Verantwortung übernehmen\, denn sie
  spüren auf ihren Schultern das Gewicht der Welt. Ein mutmachender Blick
  auf den Klimawandel aus Sicht von Naturwissenschaftler:innen\, von denen
  wir lernen können\, uns den existenziellen Herausforderungen des 21.
  Jahrhunderts zu stellen\, ohne daran zu zerbrechen.\nNach dem Film
  Gespräch mit Regisseur Florian Heinzen-Ziob (angefragt)\, Dr. Volker
  Stelzer (wissenschaftlicher Mitarbeiter am KIT/ITAS u. Mitglied bei
  „Scientists for Future“) und Aktive der Gruppe „Psychologists for
  Future“. \n\nhttps://kinemathek-karlsruhe.de/film/das-gewicht-der-welt
 -naturwissenschaften-in-zeiten-des-klimawandels/
LOCATION:Kinemathek\, Kaiserpassage 6 76133 Karlsruhe
GEO:49.010608500000004;8.396970535255974
ORGANIZER:mailto:Kinemathek
END:VEVENT
END:VCALENDAR
